BEGIN:VCALENDAR
VERSION:2.0
PRODID:-//GunStuff TV - ECPv6.15.20//NONSGML v1.0//EN
CALSCALE:GREGORIAN
METHOD:PUBLISH
X-ORIGINAL-URL:https://gunstuff.tv
X-WR-CALDESC:Events for GunStuff TV
REFRESH-INTERVAL;VALUE=DURATION:PT1H
X-Robots-Tag:noindex
X-PUBLISHED-TTL:PT1H
BEGIN:VTIMEZONE
TZID:UTC
BEGIN:STANDARD
TZOFFSETFROM:+0000
TZOFFSETTO:+0000
TZNAME:UTC
DTSTART:20250101T000000
END:STANDARD
END:VTIMEZONE
BEGIN:VEVENT
DTSTART;TZID=UTC:20260411T140000
DTEND;TZID=UTC:20260411T180000
DTSTAMP:20260424T104704
CREATED:20260407T195432Z
LAST-MODIFIED:20260407T195432Z
UID:10007186-1775916000-1775930400@gunstuff.tv
SUMMARY:RPGi “Till I Collapse” Combat Match
DESCRIPTION:RPGi welcomes you to the “Till I Collapse Combat Match”\n-Showtime 0900\n-Tactical Ministry 0930\n-Shooters meeting following TM segment\n-Round Count 100\n-Same divisions as last match\n-Body armor bonus (12.5lbs slick)\n-Water provided\n-5 stages\nThe RPGi “Till I Collapse” Combat Match is a Practical Shooting Style Event containing various functional fitness obstacles integrated throughout the course of fire. All courses carefully crafted to ensure safety\, fun and moderate physical fitness challenges depending on individual skill sets and shooter conditioning.\nEach course of fire will have the “RX” physical work requirements and a “Scaled” version to afford all skill levels the opportunity to complete the event.\nHere\, we rise as one – united in Christ\, grounded in truth\, and empowered to serve with courage\, humility\, and love.\nTrain with purpose. Grow in faith.\n**All registered competitors must be a minimum of 18 years old**
URL:https://gunstuff.tv/event/rpgi-till-i-collapse-combat-match/
LOCATION:1570 Beck Bridge Road\, Westville Florida\, United States
END:VEVENT
END:VCALENDAR