BEGIN:VCALENDAR
VERSION:2.0
PRODID:-//GunStuff TV - ECPv6.15.20//NONSGML v1.0//EN
CALSCALE:GREGORIAN
METHOD:PUBLISH
X-WR-CALNAME:GunStuff TV
X-ORIGINAL-URL:https://gunstuff.tv
X-WR-CALDESC:Events for GunStuff TV
REFRESH-INTERVAL;VALUE=DURATION:PT1H
X-Robots-Tag:noindex
X-PUBLISHED-TTL:PT1H
BEGIN:VTIMEZONE
TZID:UTC
BEGIN:STANDARD
TZOFFSETFROM:+0000
TZOFFSETTO:+0000
TZNAME:UTC
DTSTART:20250101T000000
END:STANDARD
END:VTIMEZONE
BEGIN:VEVENT
DTSTART;TZID=UTC:20260418T123000
DTEND;TZID=UTC:20260418T170000
DTSTAMP:20260424T073947
CREATED:20260414T200220Z
LAST-MODIFIED:20260414T200220Z
UID:10007732-1776515400-1776531600@gunstuff.tv
SUMMARY:Hartford Steel - April 18 2026
DESCRIPTION:Hartford Gun Club Lead vs. Steel is back! Join us on the third Saturday of each month for six action packed stages of ringing steel shooting.\nCost is $15 for HGC members\, military\, and first responders. $20 for non-members. Cash only. Please arrive before 8:30am. Anybody who arrives after 8:30 will not be permitted to shoot.\nThe match is open to all pistols\, revolvers\, and pistol caliber carbines chambered in .22lr\, 9mm\, .38spl\, .40 S&W\, and .45 acp. No magnums. Participants must have a valid pistol permit\, minors are permitted to shoot if their parent or guardian has a permit and is in attendance.\n** Given the recent issues with uncommanded discharges SigSauer P320 will not be allowed at HGC matches**
URL:https://gunstuff.tv/event/hartford-steel-april-18-2026/
LOCATION:157 South Main Street\, East Granby CT\, United States
END:VEVENT
END:VCALENDAR