BEGIN:VCALENDAR
VERSION:2.0
PRODID:-//GunStuff TV - ECPv6.15.20//NONSGML v1.0//EN
CALSCALE:GREGORIAN
METHOD:PUBLISH
X-ORIGINAL-URL:https://gunstuff.tv
X-WR-CALDESC:Events for GunStuff TV
REFRESH-INTERVAL;VALUE=DURATION:PT1H
X-Robots-Tag:noindex
X-PUBLISHED-TTL:PT1H
BEGIN:VTIMEZONE
TZID:UTC
BEGIN:STANDARD
TZOFFSETFROM:+0000
TZOFFSETTO:+0000
TZNAME:UTC
DTSTART:20250101T000000
END:STANDARD
END:VTIMEZONE
BEGIN:VEVENT
DTSTART;TZID=UTC:20260418T140000
DTEND;TZID=UTC:20260418T193000
DTSTAMP:20260424T074033
CREATED:20260414T200228Z
LAST-MODIFIED:20260414T200228Z
UID:10007811-1776520800-1776540600@gunstuff.tv
SUMMARY:Five Rivers Precision Target Shooting Match (.22LR\, .22 Mag\, .17 HMR only)
DESCRIPTION:Five Rivers Shooting Sports Complex will be hosting a Precision Target Shooting Match featuring .22LR\, .22 Mag\, and .17 HMR calibers only.\nThe match is “bullseye style” and there will be three courses of fire including:  a 50 yard target requiring 25 shots\, a 75 yard target requiring 10 shots\, and a 100 yard target requiring 16 shots.  All shots are for points only on various bullseye style targets.\nTwo divisions are permitted as follows:\nOpen division is any action\, chassis\, trigger\, or optic is permitted without restriction.\nBase division is for any rifle and scope system that has a combined MSRP of $1650 USD or less\, as listed on the manufacturer’s website.\nFor both divisions\, only a front bag or bipod are permitted.  Rear bags or sleds are not permitted.\nThe briefing for the match will be at 9:00 a.m. at the clubhouse and the match will begin at 9:30 a.m.\nEmail Dave at dellis@cityofpocahontasar.gov for any other questions.
URL:https://gunstuff.tv/event/five-rivers-precision-target-shooting-match-22lr-22-mag-17-hmr-only/
LOCATION:155 Landfill Road\, Pocahontas Arkansas\, United States
END:VEVENT
END:VCALENDAR