BEGIN:VCALENDAR
VERSION:2.0
PRODID:-//GunStuff TV - ECPv6.15.20//NONSGML v1.0//EN
CALSCALE:GREGORIAN
METHOD:PUBLISH
X-ORIGINAL-URL:https://gunstuff.tv
X-WR-CALDESC:Events for GunStuff TV
REFRESH-INTERVAL;VALUE=DURATION:PT1H
X-Robots-Tag:noindex
X-PUBLISHED-TTL:PT1H
BEGIN:VTIMEZONE
TZID:UTC
BEGIN:STANDARD
TZOFFSETFROM:+0000
TZOFFSETTO:+0000
TZNAME:UTC
DTSTART:20250101T000000
END:STANDARD
END:VTIMEZONE
BEGIN:VEVENT
DTSTART;TZID=UTC:20260425T140000
DTEND;TZID=UTC:20260425T190000
DTSTAMP:20260424T084621
CREATED:20260421T200320Z
LAST-MODIFIED:20260421T200320Z
UID:10008287-1777125600-1777143600@gunstuff.tv
SUMMARY:Belton PCSL 2 Gun - 4-25-26
DESCRIPTION:*NO P320s. CLUB BAN IS IN EFFECT. IF YOU SHOW UP WITH A P320\, YOU WILL BE ASKED TO CHANGE YOUR EQUIPMENT OR YOU WILL NOT BE ALLOWED TO COMPETE.*\nSetup crew shoots for free! Our next setup date is 19 April at 10am.\nThis will be a points-per-second (hit factor) PCSL 2 Gun match.\nThe match will consist of 5 stages. Round count: approximately 80 rifle\, 80 pistol. Stages generally require 36 rounds or less to complete.\nYou will not need a sling.\nThe range opens for walkthroughs & use of the function fire area (if available) by 9am on match day. No walkthroughs are permitted before 9am. Even if you have range access by being a member of Belton Gun Club\, please stay off the competition bays until 9am. This is a PCSL HQ expectation to ensure equitable walkthrough time for all competitors.\nPlease plan to arrive by 9:30am. I want to start the match briefing around 9:50am if possible\, and get us shooting as close to 10am as possible.\nPayment is only accepted in CASH during the registration period\, starting at ~9:30am the day of the match. I don’t deal with cards\, and I’m not taking your money via Venmo\, CashApp\, or anything like that. I’ll laugh at you if you try to hand me a check.\nRead the PCSL rulebook before attending! Find it at pcsleague.us. We will be using the 2025 rulebook revision during the 2026 season.
URL:https://gunstuff.tv/event/belton-pcsl-2-gun-4-25-26/
LOCATION:153 Range Road\, Belton\, SC\, United States
GEO:34.492422;-82.569083
END:VEVENT
END:VCALENDAR