BEGIN:VCALENDAR
VERSION:2.0
PRODID:-//GunStuff TV - ECPv6.15.20//NONSGML v1.0//EN
CALSCALE:GREGORIAN
METHOD:PUBLISH
X-WR-CALNAME:GunStuff TV
X-ORIGINAL-URL:https://gunstuff.tv
X-WR-CALDESC:Events for GunStuff TV
REFRESH-INTERVAL;VALUE=DURATION:PT1H
X-Robots-Tag:noindex
X-PUBLISHED-TTL:PT1H
BEGIN:VTIMEZONE
TZID:UTC
BEGIN:STANDARD
TZOFFSETFROM:+0000
TZOFFSETTO:+0000
TZNAME:UTC
DTSTART:20250101T000000
END:STANDARD
END:VTIMEZONE
BEGIN:VEVENT
DTSTART;TZID=UTC:20260425T140000
DTEND;TZID=UTC:20260425T173000
DTSTAMP:20260421T190605
CREATED:20260421T200341Z
LAST-MODIFIED:20260421T200341Z
UID:10008486-1777125600-1777138200@gunstuff.tv
SUMMARY:Hamburg Steel Plate April Match
DESCRIPTION:A day of fun with your handgun or 22 carbine. No pre-registration\, register on the day of match only.\nSign up starts 9:15 am\nMatch starts at 10:00 am\nCost: $15.00 first gun\nadditional guns $10.00
URL:https://gunstuff.tv/event/hamburg-steel-plate-april-match/
LOCATION:149 Forge Dam Rd\, Hamburg Pennsylvania\, United States
END:VEVENT
END:VCALENDAR