BEGIN:VCALENDAR
VERSION:2.0
PRODID:-//GunStuff TV - ECPv6.15.20//NONSGML v1.0//EN
CALSCALE:GREGORIAN
METHOD:PUBLISH
X-WR-CALNAME:GunStuff TV
X-ORIGINAL-URL:https://gunstuff.tv
X-WR-CALDESC:Events for GunStuff TV
REFRESH-INTERVAL;VALUE=DURATION:PT1H
X-Robots-Tag:noindex
X-PUBLISHED-TTL:PT1H
BEGIN:VTIMEZONE
TZID:UTC
BEGIN:STANDARD
TZOFFSETFROM:+0000
TZOFFSETTO:+0000
TZNAME:UTC
DTSTART:20250101T000000
END:STANDARD
END:VTIMEZONE
BEGIN:VEVENT
DTSTART;TZID=UTC:20260423T230000
DTEND;TZID=UTC:20260424T020000
DTSTAMP:20260423T012728
CREATED:20260421T200311Z
LAST-MODIFIED:20260421T200311Z
UID:10008213-1776985200-1776996000@gunstuff.tv
SUMMARY:The Range St. Louis West PCSL Practical Pistol April 2026
DESCRIPTION:The Range St Louis West PCSL Practical Pistol Match (PCC Welcome)\nOur PCSL Pistol matches will be held on the 4th Thursday of each month from 6pm to 9pm.\nThe cost is $20.\nWe will have 2 squads with a cap of 40 competitors per match.\nRound counts will be approximately 100.\nWe expect to run 4 stages per match.\nMatch is scored using hit factor scoring and in minor power factor regardless of caliber.\nWe meet in the classroom and perform roll call at 6pm. The Range St Louis West operates as a cold range for competitions\, and that includes the classroom. That mean ho handling of firearms in the classroom please.\nFor more information about the Practical Competition Shooting League\, visit https://www.pcsleague.us/ and email matches@therangestl.com with any questions (or find Jason).\nAll participants are required to have completed a waiver with The Range in the previous 12 months. If needed\, this can be completed online at https://smartwaiver.com/splash/37511
URL:https://gunstuff.tv/event/the-range-st-louis-west-pcsl-practical-pistol-april-2026/
LOCATION:14803 Manchester Rd.\, Ballwin\, MO\, United States
GEO:38.609102;-90.559763
END:VEVENT
END:VCALENDAR