BEGIN:VCALENDAR
VERSION:2.0
PRODID:-//GunStuff TV - ECPv6.15.20//NONSGML v1.0//EN
CALSCALE:GREGORIAN
METHOD:PUBLISH
X-WR-CALNAME:GunStuff TV
X-ORIGINAL-URL:https://gunstuff.tv
X-WR-CALDESC:Events for GunStuff TV
REFRESH-INTERVAL;VALUE=DURATION:PT1H
X-Robots-Tag:noindex
X-PUBLISHED-TTL:PT1H
BEGIN:VTIMEZONE
TZID:UTC
BEGIN:STANDARD
TZOFFSETFROM:+0000
TZOFFSETTO:+0000
TZNAME:UTC
DTSTART:20250101T000000
END:STANDARD
END:VTIMEZONE
BEGIN:VEVENT
DTSTART;TZID=UTC:20260422T220000
DTEND;TZID=UTC:20260423T000000
DTSTAMP:20260422T212055
CREATED:20260421T200306Z
LAST-MODIFIED:20260421T200306Z
UID:10008166-1776895200-1776902400@gunstuff.tv
SUMMARY:CFRPC Summer Speed League Season Opener 04-22-2026
DESCRIPTION:5 fun stages of all steel. A good way for beginners to get their feet wet in competition and a great challenge for more experienced shooters as well. First shot at 6 pm and we usually finish up by 8pm. Payments will be made on site only. Please arrive prior to 5:45 pm to pay in full. All Check-in closes at 5:45 and if you have not arrived to pay your spot will be forfeited.\n***NOTICE…as of 08/05/2025\, CFRPC will no longer allow the SIG SAUER P320 pistol\, in all of its variants\, to be used on the premises of CFRPC\, effective immediately. Other SIG SAUER platforms continue to be welcome at CFRPC.***\nCFRPC Club Members $10\nNon Members $20\nClub Member Ladies $5\nNon Member Ladies $15\nJunior Members (Under 16yrs old) $5\nJunior Non Members $15\nSetup Crew shoots FREE\nTo help setup be the first 10-12 persons to email Doug at dougthegunsmith@yahoo.com\nor just show up by 2:15pm
URL:https://gunstuff.tv/event/cfrpc-summer-speed-league-season-opener-04-22-2026/
LOCATION:14646 Wewahootee Road\, Orlando\, FL\, United States
GEO:28.545179;-81.373291
END:VEVENT
BEGIN:VEVENT
DTSTART;TZID=UTC:20260425T133000
DTEND;TZID=UTC:20260425T183000
DTSTAMP:20260422T212055
CREATED:20260421T200317Z
LAST-MODIFIED:20260421T200317Z
UID:10008270-1777123800-1777141800@gunstuff.tv
SUMMARY:CFRPC Multigun - April 2026
DESCRIPTION:***NOTICE***\nAs of 08/05/2025\, CFRPC will no longer allow the SIG SAUER P320 pistol\, in all of its variants\, to be used on the premises of CFRPC\, effective immediately. Other SIG SAUER platforms continue to be welcome at CFRPC.\n——————————————————————————-\nWelcome to Central Florida Multi-Gun monthly match at Central Florida Rifle and Pistol Club\nMATCH FEES:\n– CFRPC member: $10\n– Non-member: $20\nCentral Florida Multi-Gun is a local action shooting sport that allows participants to compete on stages using a single firearm or a variety of firearms all during a single match. Our match format is derived from many of the Action or Practical Shooting sports. Our underlying philosophy is to allow shooters the opportunity to develop proficiency with their firearms by providing them with valuable “trigger time” in a friendly and competitive environment. Shooters will be able to use equipment and develop skills that are practical in “real world” self-defense scenarios.\nMatch schedule\n8:15am…Check-in opens.\n9:05am…Check-in closes (all no-show spots are forfeit).\n9:10am…Safety Brief  (Safety brief attendance is MANDATORY for all participants and visitors) followed by stage walk though.\nThe match will begin after the MANDATORY safety brief and stage walk through.\nREMEMBER: YOU MUST COME INTO THE SIGN-IN TRAILER TO COMPLETE YOUR MATCH REGISTRATION ON THE DAY OF THE MATCH!\nEveryone\, including spectators\, must show their valid CFRPC Membership Badge or  their non-member Extended Release and Waiver Card during the morning Check-in.  If you have neither\, you must complete and execute a release as soon as you arrive on property.\n***Breakdown of the Divisions***\nOpen 3gun / Open 2gun (without shotgun):\n* No limitations on optics\, modifications\, accessories\, or ammunition capacity.\n* Any center-fire semi-auto rifle or PCC with a detachable magazine – Any sights or optics permitted. Muzzle brakes allowed.\n* Any Semi-auto pistol or DA revolver – Any sights or optics permitted. Ports or comps are allowed.\n* Any pump or semi-auto shotgun with a tube or detachable magazine – Any sights or optics permitted. Ports or muzzle brakes allowed. Speed loaders\, extended magazine tubes\, & box magazines allowed.\nTac 3gun / Tac 2gun (without shotgun):\n*  Any Semi-auto rifle or PCC with a detachable magazine – Any sights or optics permitted. Muzzle brakes allowed.\n*  IRON SIGHTS on any Semi-auto pistol or DA revolver. Extended magazines allowed. Ports or comps are not allowed.\n*  Any pump or semi-auto Shotgun with a TUBE MAGAZINE – a maximum of 9 rounds total in the shotgun at the start of a stage.\n.22lr multi-gun (with or without shotgun):\n*  At least one gun used must be chambered in .22lr caliber.\n*  Any semi-auto rifle or PCC with a detachable magazine – Any sights or optics permitted. Muzzle brakes allowed.\n*  Any semi-auto pistol or DA revolver- Any sights or optics permitted. Ports or comps are allowed.\n*  Any pump or semi-auto Shotgun with a tube magazine – a maximum of 9 rounds total in the shotgun at the start of a stage.\nPCC multi-gun (with or without shotgun):\n*  PCC with a detachable magazine – Any sights or optics permitted. Muzzle brakes allowed.\n*  Any semi-auto pistol or DA revolver – Any sights or optics permitted. Ports or comps are allowed.\n*  Any pump or semi-auto Shotgun with a tube magazine – a maximum of 9 rounds total in the shotgun at the start of a stage.\nSingle gun only divisions:\n.22lr 1gun\n*  Any .22lr semi-auto rifle with a detachable magazine or .22lr  semi-auto pistol – Any sights or optics permitted.\nPCC 1gun\n*  Any center-fire semi-auto PCC with a detachable magazine – Any sights or optics permitted. Muzzle brakes allowed.\nPistol only\n*  Any center-fired semi-auto pistol or DA revolver – Any sights or optics permitted. Ports or comps are allowed.\n.
URL:https://gunstuff.tv/event/cfrpc-multigun-april-2026/
LOCATION:14646 Wewahootee Road\, Orlando\, FL\, United States
GEO:28.545179;-81.373291
END:VEVENT
END:VCALENDAR