BEGIN:VCALENDAR
VERSION:2.0
PRODID:-//GunStuff TV - ECPv6.15.20//NONSGML v1.0//EN
CALSCALE:GREGORIAN
METHOD:PUBLISH
X-ORIGINAL-URL:https://gunstuff.tv
X-WR-CALDESC:Events for GunStuff TV
REFRESH-INTERVAL;VALUE=DURATION:PT1H
X-Robots-Tag:noindex
X-PUBLISHED-TTL:PT1H
BEGIN:VTIMEZONE
TZID:UTC
BEGIN:STANDARD
TZOFFSETFROM:+0000
TZOFFSETTO:+0000
TZNAME:UTC
DTSTART:20250101T000000
END:STANDARD
END:VTIMEZONE
BEGIN:VEVENT
DTSTART;TZID=UTC:20260418T140000
DTEND;TZID=UTC:20260418T173000
DTSTAMP:20260424T071823
CREATED:20260414T200212Z
LAST-MODIFIED:20260414T200212Z
UID:10007675-1776520800-1776533400@gunstuff.tv
SUMMARY:Speedway April 18th IDPA Match
DESCRIPTION:This Match will have six plus stages of IDPA competition that will test your skills and hone your abilities with your concealed carry firearm. From beginner to high level shooter everyone will enjoy this match and compete with other shooters based on your classification not overall score. Each entry includes membership to the club to shoot this match. A match day only waver and application will need to be signed prior to the match and entitles you to membership of the club for the duration of the match.
URL:https://gunstuff.tv/event/speedway-april-18th-idpa-match/
LOCATION:1452 U.S. 25\, Travelers Rest\, SC\, United States
GEO:35.071632;-82.374186
END:VEVENT
END:VCALENDAR