BEGIN:VCALENDAR
VERSION:2.0
PRODID:-//GunStuff TV - ECPv6.15.20//NONSGML v1.0//EN
CALSCALE:GREGORIAN
METHOD:PUBLISH
X-WR-CALNAME:GunStuff TV
X-ORIGINAL-URL:https://gunstuff.tv
X-WR-CALDESC:Events for GunStuff TV
REFRESH-INTERVAL;VALUE=DURATION:PT1H
X-Robots-Tag:noindex
X-PUBLISHED-TTL:PT1H
BEGIN:VTIMEZONE
TZID:UTC
BEGIN:STANDARD
TZOFFSETFROM:+0000
TZOFFSETTO:+0000
TZNAME:UTC
DTSTART:20250101T000000
END:STANDARD
END:VTIMEZONE
BEGIN:VEVENT
DTSTART;TZID=UTC:20260418T150000
DTEND;TZID=UTC:20260418T230000
DTSTAMP:20260424T073746
CREATED:20260414T200227Z
LAST-MODIFIED:20260414T200227Z
UID:10007799-1776524400-1776553200@gunstuff.tv
SUMMARY:SVSP April 18 2026 Sun Valley Shooting Park Precision Rifle Club Match
DESCRIPTION:Steel Targets from 125 to 625 yards from a variety of positions and props.\nGates open at 0800.\nRounds down range at 0900\nFee: $50 for non-members – $40 for SVSP members.\nLunch and water will be provided at the match.
URL:https://gunstuff.tv/event/svsp-april-18-2026-sun-valley-shooting-park-precision-rifle-club-match/
LOCATION:1452 Suntargets Rd\, Moxee WA\, United States
END:VEVENT
END:VCALENDAR