BEGIN:VCALENDAR
VERSION:2.0
PRODID:-//GunStuff TV - ECPv6.15.20//NONSGML v1.0//EN
CALSCALE:GREGORIAN
METHOD:PUBLISH
X-WR-CALNAME:GunStuff TV
X-ORIGINAL-URL:https://gunstuff.tv
X-WR-CALDESC:Events for GunStuff TV
REFRESH-INTERVAL;VALUE=DURATION:PT1H
X-Robots-Tag:noindex
X-PUBLISHED-TTL:PT1H
BEGIN:VTIMEZONE
TZID:UTC
BEGIN:STANDARD
TZOFFSETFROM:+0000
TZOFFSETTO:+0000
TZNAME:UTC
DTSTART:20250101T000000
END:STANDARD
END:VTIMEZONE
BEGIN:VEVENT
DTSTART;TZID=UTC:20260411T140000
DTEND;TZID=UTC:20260411T230000
DTSTAMP:20260424T104705
CREATED:20260407T195435Z
LAST-MODIFIED:20260407T195435Z
UID:10007211-1775916000-1775948400@gunstuff.tv
SUMMARY:CVO Challenge Dave Steinbach memorial
DESCRIPTION:9 Challenging Stages: Engage steel targets ranging from 150 to 1\,200 yards.\nDiverse Scenarios: Shoot from natural barriers\, cliffs\, PRS-style barriers\, and tripods.\nRound Count: Approximately 100 rounds total (9-12 rounds per stage with a par time).\nNo Magnum Calibers.\nThis challenging course is perfect for military personnel\, law enforcement\, and competitive shooters in PRS\, Quantified Performance\, and other disciplines.\nWhy Your Participation Matters:\nThe CVO Challenge raises crucial funds for Camp Valor Outdoors\, a 501(c)(3) non-profit dedicated to empowering our nation’s heroes.\nCamp Valor Outdoors provides:\nTiny homes for homeless veterans.\nAdaptive outdoor activities (fishing\, hunting\, shooting\, and more) for ill\, injured\, and wounded disabled veterans and their families.
URL:https://gunstuff.tv/event/cvo-challenge-dave-steinbach-memorial/
LOCATION:14270 melvin west rd\, hopkinsville ky\, United States
END:VEVENT
END:VCALENDAR