BEGIN:VCALENDAR
VERSION:2.0
PRODID:-//GunStuff TV - ECPv6.15.20//NONSGML v1.0//EN
CALSCALE:GREGORIAN
METHOD:PUBLISH
X-WR-CALNAME:GunStuff TV
X-ORIGINAL-URL:https://gunstuff.tv
X-WR-CALDESC:Events for GunStuff TV
REFRESH-INTERVAL;VALUE=DURATION:PT1H
X-Robots-Tag:noindex
X-PUBLISHED-TTL:PT1H
BEGIN:VTIMEZONE
TZID:UTC
BEGIN:STANDARD
TZOFFSETFROM:+0000
TZOFFSETTO:+0000
TZNAME:UTC
DTSTART:20250101T000000
END:STANDARD
END:VTIMEZONE
BEGIN:VEVENT
DTSTART;TZID=UTC:20260418T140000
DTEND;TZID=UTC:20260418T200000
DTSTAMP:20260424T073936
CREATED:20260414T200218Z
LAST-MODIFIED:20260414T200218Z
UID:10007719-1776520800-1776542400@gunstuff.tv
SUMMARY:CMR Precision Rifle PRO series
DESCRIPTION:PRO series Rimfire rifle precision match.  5 stages with 10 shots per stage. Distance is 30yds to 120yds.  Sight in from 7:30am till 8:30am registration at 8:30am and match starts at 9am
URL:https://gunstuff.tv/event/cmr-precision-rifle-pro-series/
LOCATION:1420 County Rd 276\, Columbia Missouri\, United States
END:VEVENT
END:VCALENDAR