BEGIN:VCALENDAR
VERSION:2.0
PRODID:-//GunStuff TV - ECPv6.15.20//NONSGML v1.0//EN
CALSCALE:GREGORIAN
METHOD:PUBLISH
X-ORIGINAL-URL:https://gunstuff.tv
X-WR-CALDESC:Events for GunStuff TV
REFRESH-INTERVAL;VALUE=DURATION:PT1H
X-Robots-Tag:noindex
X-PUBLISHED-TTL:PT1H
BEGIN:VTIMEZONE
TZID:UTC
BEGIN:STANDARD
TZOFFSETFROM:+0000
TZOFFSETTO:+0000
TZNAME:UTC
DTSTART:20250101T000000
END:STANDARD
END:VTIMEZONE
BEGIN:VEVENT
DTSTART;TZID=UTC:20260425T133000
DTEND;TZID=UTC:20260425T190000
DTSTAMP:20260424T090100
CREATED:20260421T200324Z
LAST-MODIFIED:20260421T200324Z
UID:10008326-1777123800-1777143600@gunstuff.tv
SUMMARY:Parma Long Range Varmint Silhouette - April 25th 2026
DESCRIPTION:Parma Long Range Varmint Silhouette\nYou will need 40 rounds for score\, extras for sighters and ties.\nAny center fire Rifle up to 30 cal. and velocity under 3200fps.\nSTEEL CORE OR PENETRATOR ROUNDS ARE NOT ALLOWED.\nThis is a one round load event. You will not load your magazine to fire all five shots at the five targets in the string.\nThis will be a prone match using Bipods or Packs for front rest\, no rear bags will be allowed. Those shooters that rather not shoot from the prone position will be allowed to shoot from the bench\, the same rules apply as far as support.\nWe will advance shooters into classes-\nAll shooters start in Markman Class\nAchieve Expert Class with a score of 30+ in Marksman\nAchieve Master with a score of 35+ in Expert\nTargets will be as follows-\nMarksman Class will have targets at  305\, 403\, 415\, 600\, and 705yards.\nExpert Class will have targets at 305\, 415\, 505\, 600\, and 705 yards\nMaster class will have targets at 305\, 415\, 505\, 600\, and 800 yards\nPlacement will be based on overall scores. The tie breaker target will be at 600 yards to determine 1st\, 2nd\, and 3rd place.\nFor the first string you will have seven and a half minutes to shoot sighters. In that seven and a half minutes you will have to shoot five rounds for score. Then approximately a one-minute break and then two and a half minutes to shoot the next string of five targets. Subsequent strings will be two and a half minutes. Total of 8 strings\nShooters will be broken up into squads. For example\, say twenty people show up. The squads will break down into four shooters per squad and five squads shooting. All squads will shoot at the same time. People will need to bring Chairs\, shooting mats\, and Binoculars or spotting scopes to score hits.  The members of each squad will keep score for the shooter with an X for hits and O for misses.\nSign in at 8:00AM\, Safety Brief at 8:15AM\, Shooting by 8:30AM. Must attend Safety Brief to shoot.\n$15 for members $20 for non members\nQuestions? Email: parma.varmint@gmail.com
URL:https://gunstuff.tv/event/parma-long-range-varmint-silhouette-april-25th-2026/
LOCATION:1420 Boehm Ln.\, Parma Idaho\, United States
END:VEVENT
END:VCALENDAR