BEGIN:VCALENDAR
VERSION:2.0
PRODID:-//GunStuff TV - ECPv6.15.20//NONSGML v1.0//EN
CALSCALE:GREGORIAN
METHOD:PUBLISH
X-ORIGINAL-URL:https://gunstuff.tv
X-WR-CALDESC:Events for GunStuff TV
REFRESH-INTERVAL;VALUE=DURATION:PT1H
X-Robots-Tag:noindex
X-PUBLISHED-TTL:PT1H
BEGIN:VTIMEZONE
TZID:UTC
BEGIN:STANDARD
TZOFFSETFROM:+0000
TZOFFSETTO:+0000
TZNAME:UTC
DTSTART:20250101T000000
END:STANDARD
END:VTIMEZONE
BEGIN:VEVENT
DTSTART;TZID=UTC:20260418T140000
DTEND;TZID=UTC:20260418T190000
DTSTAMP:20260421T203042
CREATED:20260414T200219Z
LAST-MODIFIED:20260414T200219Z
UID:10007724-1776520800-1776538800@gunstuff.tv
SUMMARY:Action Steel Parma April 2026
DESCRIPTION:An all steel pistol match with USPSA style stages without all the reset and scoring.
URL:https://gunstuff.tv/event/action-steel-parma-april-2026/
LOCATION:1420 Boehm Lane\, Parma Idaho\, United States
END:VEVENT
BEGIN:VEVENT
DTSTART;TZID=UTC:20260411T140000
DTEND;TZID=UTC:20260411T200000
DTSTAMP:20260421T203042
CREATED:20260407T195434Z
LAST-MODIFIED:20260407T195434Z
UID:10007204-1775916000-1775937600@gunstuff.tv
SUMMARY:April Parma 3 Gun Match 2026
DESCRIPTION:Regular 3 gun match at Parma. Setup 0800\, be on time for this so we can get shooting ASAP.
URL:https://gunstuff.tv/event/april-parma-3-gun-match-2026/
LOCATION:1420 Boehm Lane\, Parma Idaho\, United States
END:VEVENT
END:VCALENDAR