BEGIN:VCALENDAR
VERSION:2.0
PRODID:-//GunStuff TV - ECPv6.15.20//NONSGML v1.0//EN
CALSCALE:GREGORIAN
METHOD:PUBLISH
X-WR-CALNAME:GunStuff TV
X-ORIGINAL-URL:https://gunstuff.tv
X-WR-CALDESC:Events for GunStuff TV
REFRESH-INTERVAL;VALUE=DURATION:PT1H
X-Robots-Tag:noindex
X-PUBLISHED-TTL:PT1H
BEGIN:VTIMEZONE
TZID:UTC
BEGIN:STANDARD
TZOFFSETFROM:+0000
TZOFFSETTO:+0000
TZNAME:UTC
DTSTART:20250101T000000
END:STANDARD
END:VTIMEZONE
BEGIN:VEVENT
DTSTART;TZID=UTC:20260422T213000
DTEND;TZID=UTC:20260423T010000
DTSTAMP:20260422T101928
CREATED:20260421T200307Z
LAST-MODIFIED:20260421T200307Z
UID:10008178-1776893400-1776906000@gunstuff.tv
SUMMARY:Classifier Night - Apr-22-2026
DESCRIPTION:Target Sports Canada – Weekly Club Level Tier 1 IDPA Match.\n**** PLEASE READ ****\n* MATCH & SAFETY BRIEFING is a Mandatory Requirement for shooting the match.\n* If you are not present at the beginning of the Match & Safety Briefing\, you will not be allowed to shoot the Match.\n* Be courteous to the other competitors and match volunteers by being early and helpful throughout the match.\nHello everyone\,\nThis Wednesday is our first classifier night of the year. There are over 30 shooters we have to process and score. Please show up anytime between 5pm – 6:30 pm. As any other Wednesday night\, you are required to help patch and re-set the classifier stage to ensure we run on time and everyone has there opportunity to classify. If you show up early\, shoot your classifier\, and help patch several stages\, you may leave when asked by one of the Safety Officers.\nIF THIS IS YOUR FIRST CLASSIFIER\, PLEASE READ BELOW\nBelow is a Youtube video of what the classifier stage is\, please watch and understand it\, so you will be ready for Wednesday. \n\nSSP \, CO\, ESP\, CCP\, Divisions with 10 round magazines\, you will need a MINIMUM of 3 magazines.\n2 – magazines loaded with 10 rounds\n1 – magazine loaded with 5 rounds.\nBring extra ammo\n* Squad 1: Please report to the classroom by 5pm and help build the stages and gear up. The earlier we finish building the stages\, the earlier we can start and shoot more stages.
URL:https://gunstuff.tv/event/classifier-night-apr-22-2026/
LOCATION:14 Stalwart Industrial Drive\, Gormley Ontario\, Canada
END:VEVENT
END:VCALENDAR