BEGIN:VCALENDAR
VERSION:2.0
PRODID:-//GunStuff TV - ECPv6.15.20//NONSGML v1.0//EN
CALSCALE:GREGORIAN
METHOD:PUBLISH
X-WR-CALNAME:GunStuff TV
X-ORIGINAL-URL:https://gunstuff.tv
X-WR-CALDESC:Events for GunStuff TV
REFRESH-INTERVAL;VALUE=DURATION:PT1H
X-Robots-Tag:noindex
X-PUBLISHED-TTL:PT1H
BEGIN:VTIMEZONE
TZID:UTC
BEGIN:STANDARD
TZOFFSETFROM:+0000
TZOFFSETTO:+0000
TZNAME:UTC
DTSTART:20250101T000000
END:STANDARD
END:VTIMEZONE
BEGIN:VEVENT
DTSTART;TZID=UTC:20260415T150000
DTEND;TZID=UTC:20260415T190000
DTSTAMP:20260423T053228
CREATED:20260414T200156Z
LAST-MODIFIED:20260414T200156Z
UID:10007522-1776265200-1776279600@gunstuff.tv
SUMMARY:Pima Pistol Action Pistol Match\, Wednesday\, April 15th
DESCRIPTION:This is an Action Pistol match with 4 or 5 stages and squads based on match registration.  Setup is done by match shooters before match and starts at 6 AM.   Setup help is always appreciated.  Match price is $25.    PPC members get a $5 discount by checking the PPC member box.  Once you have registered\, paid the match fee and acknowledged the club waiver\, you can squad yourself.  Match shooters should have a minimum of 4 mags with 5 or 6 being recommended.\nMatch shooting starts at 8 AM.\nPer PPC policy\, participants may cancel their match registration and receive a refund if the request is made at least 72 hours prior to the start of the match. Refunds will be issued minus the associated credit card processing fees\, as these fees are not returned to the club by the payment processor. Refund requests made within 72 hours of the match may not be eligible for a refund.
URL:https://gunstuff.tv/event/pima-pistol-action-pistol-match-wednesday-april-15th/
LOCATION:13990 N Lago Del Oro Parkway\, Catalina\, AZ\, United States
GEO:31.970131;-111.890713
END:VEVENT
END:VCALENDAR