BEGIN:VCALENDAR
VERSION:2.0
PRODID:-//GunStuff TV - ECPv6.15.20//NONSGML v1.0//EN
CALSCALE:GREGORIAN
METHOD:PUBLISH
X-WR-CALNAME:GunStuff TV
X-ORIGINAL-URL:https://gunstuff.tv
X-WR-CALDESC:Events for GunStuff TV
REFRESH-INTERVAL;VALUE=DURATION:PT1H
X-Robots-Tag:noindex
X-PUBLISHED-TTL:PT1H
BEGIN:VTIMEZONE
TZID:UTC
BEGIN:STANDARD
TZOFFSETFROM:+0000
TZOFFSETTO:+0000
TZNAME:UTC
DTSTART:20250101T000000
END:STANDARD
END:VTIMEZONE
BEGIN:VEVENT
DTSTART;TZID=UTC:20260418T160000
DTEND;TZID=UTC:20260418T193000
DTSTAMP:20260424T074050
CREATED:20260414T200232Z
LAST-MODIFIED:20260414T200232Z
UID:10007850-1776528000-1776540600@gunstuff.tv
SUMMARY:Pima Pistol Club BUG (Back-Up Gun) match 4-18-26
DESCRIPTION:Back up gun match intended for small pistols and revolvers.  Shooters using full sized handguns will be limited to 5 rounds at the start of each stage and 5 round reloads.  Match consists of 4 stages\, round count is modest (50 rounds is normally enough)\, and holsters are not required .\nFor additional details\, see match description at the Pima Pistol Club web site–rules and stage/match design is unique and not otherwise affiliated with other standardized match types.\nWhen signing up on Practice score\, please also SQUAD yourself with those you intend to shoot\, although we may need to adjust actual SQUAD placement the morning of the match to keep things balanced.  If specific shooters want to shoot together we’ll do our best to accommodate them.\nLastly\, because the attendance of this match (and others) has grown\, sign up is limited and all shooters can only enter once for the competition (no multiple registration).  Feel free to change your choice on the day of the match if you desire.
URL:https://gunstuff.tv/event/pima-pistol-club-bug-back-up-gun-match-4-18-26/
LOCATION:13990 N Lago Del Oro Parkway\, Catalina Arizona\, United States
END:VEVENT
BEGIN:VEVENT
DTSTART;TZID=UTC:20260418T150000
DTEND;TZID=UTC:20260418T200000
DTSTAMP:20260424T074050
CREATED:20260414T200231Z
LAST-MODIFIED:20260414T200231Z
UID:10007836-1776524400-1776542400@gunstuff.tv
SUMMARY:Pima Pistol Club Rimfire Challenge Match April 18 2026
DESCRIPTION:Rimfire Challenge Match consisting of 5 stages. Approximate round count 140. Disciplines include pistol and rifle\, iron and optic sights\, .22 rimfire ammunition only.  Five magazines required. Firearms remain cased (no holsters allowed) until instructed to “make ready” by the stage RSO. Match will be held on Ranges 9 (Pit) and 12.\nParticipants may cancel their match registration and receive a refund if the request is made at least 72 hours prior to the start of the match. Refunds will be issued minus the associated credit card processing fees\, as these fees are not returned to the club by the payment processor. Refund requests made within 72 hours of the match may not be eligible for a refund.
URL:https://gunstuff.tv/event/pima-pistol-club-rimfire-challenge-match-april-18-2026/
LOCATION:13990 N Lago Del Oro Parkway\, Catalina Arizona\, United States
END:VEVENT
BEGIN:VEVENT
DTSTART;TZID=UTC:20260411T153000
DTEND;TZID=UTC:20260411T193000
DTSTAMP:20260424T074050
CREATED:20260407T195432Z
LAST-MODIFIED:20260407T195432Z
UID:10007187-1775921400-1775935800@gunstuff.tv
SUMMARY:Pima Pistol Club 2-Gun Action Match April 11 2026
DESCRIPTION:The 2 Gun Action Match is a fun but challenging match utilizing both a rifle and pistol.\nSponsored by: Black Metal Firearms (https://www.facebook.com/BMFAZ/)\nPlease do not show up at the range unless you’ve registered and been approved here on Practiscore.\n* PLEASE DO NOT SIGN UP FOR THIS MATCH UNLESS YOU’RE HIGHLY LIKELY TO BE ABLE TO ATTEND OR UNDERSTAND THAT YOU MAY BE FORFEITING THE MATCH FEE IF YOU CAN NOT. *\nPima Pistol Club members will receive a discount of $5 per match. If you are PPC staff\, match organizer\, or under 18 (youth) you shoot for free. Contact the match director for a bypass link.\nPlease read the range rules\, particularly section 3.4 “Match Requirements” prior to attending: https://www.pimapistolclub.com/_files/ugd/ad571c_c7065ce1005c4ea4b8f435855e36e8e7.pdf\nRound Count:\nRifle: 50 round minimum (bring more in case you miss)\nPistol: 70 round minimum (bring more in case you miss)\nPlease do not bring any steel-cased\, bimetal jacketed\, steel core\, tungsten core\, or AP ammo. This is a range fire hazard when shooting the steel targets.
URL:https://gunstuff.tv/event/pima-pistol-club-2-gun-action-match-april-11-2026/
LOCATION:13990 N Lago Del Oro Parkway\, Catalina Arizona\, United States
END:VEVENT
END:VCALENDAR