BEGIN:VCALENDAR
VERSION:2.0
PRODID:-//GunStuff TV - ECPv6.15.20//NONSGML v1.0//EN
CALSCALE:GREGORIAN
METHOD:PUBLISH
X-WR-CALNAME:GunStuff TV
X-ORIGINAL-URL:https://gunstuff.tv
X-WR-CALDESC:Events for GunStuff TV
REFRESH-INTERVAL;VALUE=DURATION:PT1H
X-Robots-Tag:noindex
X-PUBLISHED-TTL:PT1H
BEGIN:VTIMEZONE
TZID:UTC
BEGIN:STANDARD
TZOFFSETFROM:+0000
TZOFFSETTO:+0000
TZNAME:UTC
DTSTART:20250101T000000
END:STANDARD
END:VTIMEZONE
BEGIN:VEVENT
DTSTART;TZID=UTC:20260425T140000
DTEND;TZID=UTC:20260425T180000
DTSTAMP:20260424T090056
CREATED:20260421T200324Z
LAST-MODIFIED:20260421T200324Z
UID:10008332-1777125600-1777140000@gunstuff.tv
SUMMARY:Waterloo Action Pistol April 2026 - Outdoor
DESCRIPTION:NOTICE:  SIG P320 pistols are once again allowed at Action Pistol Matches (and all other applicable matches) at WRPC.  This comes from the club’s Safety Committee based on discussion of available information as of February 21\, 2026.\nNOTICE:  Required starting condition for CZ Shadow\, 75 and similar pistols will be with the hammer resting on a safety notch (manuf. recommended).  Start will not be allowed with the hammer fully forward as it would not be in a safety notch.\nAction Pistol.  Mix of IDPA and USPSA targets with points down scoring and relaxed rules on cover\, concealment\, reloads\, target engagement order.  No compromises on safety!  Penalties will be called according to the latest IDPA Rule Book.  As of this writing that’s the 2026 version.  Hearing protection and safety glasses with side shields or wrap around design required.\nMatch is weather dependent.  If there is a weather cancellation\, you will be notified by e-mail no later than 7:00 PM the day before the match.  This will allow us to check the hourly forecast out until noon the day of the match.
URL:https://gunstuff.tv/event/waterloo-action-pistol-april-2026-outdoor/
LOCATION:1392 West River Road\, Waterloo New York\, United States
END:VEVENT
END:VCALENDAR