BEGIN:VCALENDAR
VERSION:2.0
PRODID:-//GunStuff TV - ECPv6.15.20//NONSGML v1.0//EN
CALSCALE:GREGORIAN
METHOD:PUBLISH
X-ORIGINAL-URL:https://gunstuff.tv
X-WR-CALDESC:Events for GunStuff TV
REFRESH-INTERVAL;VALUE=DURATION:PT1H
X-Robots-Tag:noindex
X-PUBLISHED-TTL:PT1H
BEGIN:VTIMEZONE
TZID:UTC
BEGIN:STANDARD
TZOFFSETFROM:+0000
TZOFFSETTO:+0000
TZNAME:UTC
DTSTART:20250101T000000
END:STANDARD
END:VTIMEZONE
BEGIN:VEVENT
DTSTART;TZID=UTC:20260425T130000
DTEND;TZID=UTC:20260425T190000
DTSTAMP:20260424T090249
CREATED:20260421T200328Z
LAST-MODIFIED:20260421T200328Z
UID:10008361-1777122000-1777143600@gunstuff.tv
SUMMARY:NRL22 at NASA - April 2026 COF + Bonus Stages
DESCRIPTION:This will be the April NRL22 COF w/ 1 or 2 bonus stages. NASA aims to host the NRL22 monthly COF’s on the 4th Saturday of each month. We hope you can join us.\n8:00 – Site in range open\n8:45 – Shooters meeting\n9:00 – Match starts\nOPEN TO THE PUBLIC\nNon-NASA (North Alabama Shooting Association) members and Non-NRL22 Members are always welcome. Please Pre-register. Pre-registration is FREE and helps get the match started on time. Walk-up registrations can be accepted starting at 8:00 the morning of the match.\n.22 Long Rifle ONLY. No 22 mags\, No WMR\, No .17’s etc. (Air rifles accepted according to NRL22 air rifle rules)\nRounds Required: 80 rounds + extra for zero & practice\nDivisions: Open\, Base\, Ladies\, Old Guns\, Young Guns\, Adaptive\, Air Rifle & Semi-auto.\nWhat to bring: The minimum of a .22LR rifle w/scope is key. People have shot with open sights and it is allowed but this sport was designed for precision and accuracy so it is very difficult to shoot NRL22 without a scope. A bipod is very beneficial but not required. A shooting bag is very beneficial as well but the NRL22 community is very welcoming and supportive so there will be plenty of bags that can be borrowed if needed. We just want people being safe\, shooting\, and enjoying themselves. Eye and ear protection is recommended\, but will be required If someone is shooting centerfire in the pistol bays.\nAll payments will be taken at the match.\nMatch Fees (cash):\n$15 – NASA Visitors\n$10 – NASA Members\n$5   – Young Guns
URL:https://gunstuff.tv/event/nrl22-at-nasa-april-2026-cof-bonus-stages/
LOCATION:1390 Wagnon Mountain Rd.\, Tuscumbia Alabama\, United States
END:VEVENT
END:VCALENDAR