BEGIN:VCALENDAR
VERSION:2.0
PRODID:-//GunStuff TV - ECPv6.15.20//NONSGML v1.0//EN
CALSCALE:GREGORIAN
METHOD:PUBLISH
X-ORIGINAL-URL:https://gunstuff.tv
X-WR-CALDESC:Events for GunStuff TV
REFRESH-INTERVAL;VALUE=DURATION:PT1H
X-Robots-Tag:noindex
X-PUBLISHED-TTL:PT1H
BEGIN:VTIMEZONE
TZID:UTC
BEGIN:STANDARD
TZOFFSETFROM:+0000
TZOFFSETTO:+0000
TZNAME:UTC
DTSTART:20250101T000000
END:STANDARD
END:VTIMEZONE
BEGIN:VEVENT
DTSTART;TZID=UTC:20260418T130000
DTEND;TZID=UTC:20260418T170000
DTSTAMP:20260421T203102
CREATED:20260414T200230Z
LAST-MODIFIED:20260414T200230Z
UID:10007830-1776517200-1776531600@gunstuff.tv
SUMMARY:Hyatt Presents - April GPA Match
DESCRIPTION:In April\, we are switching to Galactic Pistol Alliance (GPA) for our EDC type Pistol Matches. GPA membership is not required\, but it is highly suggested\, and it is free for the first year. You will need a GPA number in order to be classified for this match. See the GPA Website for more details: https://galacticpistolalliance.com/\nRSO walk-through: 9:00-9:30 am\nSafety Briefing: 9:30-10:00 am\nMatch Starts: 10:00 am\nMatch Ends: 1:00-2:00 pm or before\nThe competition is open to the public and Hyatt Farms Shooting Complex Members. All participants (excluding minors) must register via Practiscore before the match beginning.\nThis match will be run under GPA Rules. The GPA rulebook can be located here: https://galacticpistolalliance.com/wp-content/uploads/docs/gpa_rulebook.pdf\nPersonal Protection Equipment: Hearing Protection\, Eye Protection\, a brimmed hat\, and closed-toe footwear. A folding chair is recommended as seating is limited.\nCompetitors can expect an average of five stages or courses of fire at the match. Stages will have a target round count that ranges from 6 rounds to 25 rounds\, with a maximum of 150 rounds for the match.\nRange Rules Overview\nThis match is held under cold range conditions. All persons attending must have their guns in an unloaded and empty chamber condition.\nPlease clear your carry gun of all ammunition before coming to the range if you choose to use that gun.\nIf you arrive late and miss the safety briefing\, you will not be allowed to compete. However\, you can stay to observe.\nWe recommend that you bring your actual EDC firearm and associated equipment. This match is to test your skill with the firearm that you count on every day\, so we discourage the use of competition gun rigs and drop holsters unless that is how you generally move through life.\nConcealed carry is NOT required. We want you to compete with your EDC gun carried in the way that you normally carry it every day.\nFood and beverages will be available for purchase after the match at the After Clays Restaurant and Bar. Match Participants will receive a $5.00 Voucher for the Grill (No Alcohol\, 1 Voucher per competitor)!  Ammo\, firearms\, and shooting supplies can be purchased at the pro shop. Match competitors are eligible to purchase a day pass for the discounted rate of $20.00 if they wish to stay and shoot at our facility after the match. Please purchase this at the Pro shop.\nFor more information\, Match Director Steve Lackey can be reached via email at edeconde@gmail.com
URL:https://gunstuff.tv/event/hyatt-presents-april-gpa-match/
LOCATION:13770 NC-742 S\, Polkton North Carolina\, United States
END:VEVENT
BEGIN:VEVENT
DTSTART;TZID=UTC:20260411T140000
DTEND;TZID=UTC:20260411T180000
DTSTAMP:20260421T203102
CREATED:20260407T195421Z
LAST-MODIFIED:20260407T195421Z
UID:10007076-1775916000-1775930400@gunstuff.tv
SUMMARY:Hyatt Presents - NRA AR CHALLANGE - April L1 MATCH
DESCRIPTION:Location:\n13770 NC-742 S\nPolkton\, North Carolina 28135\nThe NRA America’s Rifle Challenge (ARC) Program is a dynamic\, marksmanship-oriented\, firearms competition\, based on the AR-15 and/or other appropriate semi-automatic rifles. The NRA ARC program\, administered by the NRA’s Competitive Shooting Division\, provides for several different levels of sanctioned matches\, Level 1 and Level 2\, as well as an ARC 2Gun event\, which incorporates semi-automatic handguns and is similar to ARC Level 2.\nNRA ARC L1 Courses of fire are dynamic and generally require movement\, positional shooting\, shooting from props/barricades and test accuracy skills all under time limitations\nSchedule of events:\nMatch setup – 8:00 am – 9:30 am\nMatch sign-in ends at 9:30 am\nMatch safety brief – 9:30 am\nMatch start – 10:00 pm\nMatch Fee – $20 for members / $30 for non-members\nWhen you arrive at our range\, head to the Pro Shop and sign in\, and pay for the match. Then head down to the 100 yard bay and be present for the safety briefing.\nAll participants are expected to assist with match teardown\nFour standard capacity magazines are required for your AR; magazine carriers are nice but not required\, you may use your pockets. Bring 100 rounds of ammo for your AR for the match. A rifle sling and Empty Chamber Indicator (ECI) are also required.\nWe run a cold range. Please ensure your weapon is unloaded and no magazine is installed when you arrive. There will be a safe area for handling firearms. No ammo will be allowed in the safe areas. NRA ARC matches operate as cold range events. This means that all firearms must remain unloaded\, pistols holstered\, and rifles slung or placed in carts with a chamber flag fully inserted INTO THE CHAMBER of the firearm unless under the direct supervision of an RO or safely handled while in a designated safe area or function fire area. Transport of firearms during a match. When moving any firearm from one location to another (such as stage to stage)\, the firearm will be COMPLETELY unloaded. Handguns will be holstered or bagged\, and rifles will be slung\, fully cased\, or carted with a chamber flag or empty chamber indicator (ECI) properly inserted into the chamber of the firearm.\nFood and beverages will be available for purchase after the match at the After Clays Restaurant and Bar. Match Participants will receive a $5.00 Voucher for the Grill (No Alcohol\, 1 Voucher per competitor)!  Ammo\, firearms\, and shooting supplies can be purchased at the pro shop. Match competitors are eligible to purchase a day pass for the discounted rate of $20.00 if they wish to stay and shoot at our facility after the match. Please purchase this at the Pro shop.\n***** IMPORTANT: An NRA Competitor ID Number is required to participate in ARC and is used for classification purposes in all NRA-sanctioned tournaments. Competitors shall visit the NRA competitive shooting web portal and register for this six-digit NRA ID number. This is separate from an NRA membership number. NRA membership is NOT required to participate in ARC events\, but is highly encouraged. Use this link for your free NRA competitor ID number: https://competitor.nra.org *****\nFor more information\, please see the NRA ARC Rule book: https://arc.nra.org/media/10359/arc-rulebook.pdf\nIf you have any questions\, please call us (704) 826-6014 or email edeconde@gmail.com
URL:https://gunstuff.tv/event/hyatt-presents-nra-ar-challange-april-l1-match/
LOCATION:13770 NC-742 S\, Polkton North Carolina\, United States
END:VEVENT
END:VCALENDAR