BEGIN:VCALENDAR
VERSION:2.0
PRODID:-//GunStuff TV - ECPv6.15.20//NONSGML v1.0//EN
CALSCALE:GREGORIAN
METHOD:PUBLISH
X-WR-CALNAME:GunStuff TV
X-ORIGINAL-URL:https://gunstuff.tv
X-WR-CALDESC:Events for GunStuff TV
REFRESH-INTERVAL;VALUE=DURATION:PT1H
X-Robots-Tag:noindex
X-PUBLISHED-TTL:PT1H
BEGIN:VTIMEZONE
TZID:UTC
BEGIN:STANDARD
TZOFFSETFROM:+0000
TZOFFSETTO:+0000
TZNAME:UTC
DTSTART:20250101T000000
END:STANDARD
END:VTIMEZONE
BEGIN:VEVENT
DTSTART;TZID=UTC:20260409T010000
DTEND;TZID=UTC:20260410T030000
DTSTAMP:20260422T023212
CREATED:20260407T195413Z
LAST-MODIFIED:20260407T195413Z
UID:10007013-1775696400-1775790000@gunstuff.tv
SUMMARY:BELLEVUE INDOOR RANGE ASI
DESCRIPTION:— ONLINE REGISTRATION IS REQUIRED BY 5PM ON THE NIGHT YOU’RE SHOOTING —\nTHE ROSTER WILL BE DOWNLOADED TO THE SCORING TABLETS AT 5PM. IF YOU ARE NOT ON THE ROSTER\, THAT MEANS THAT YOU WERE NOT SIGNED UP BY 5PM\, AND WILL NOT BE ALLOWED TO SHOOT.\nASI WAS DESIGNED FOR BEGINNER TO INTERMEDIATE SHOOTERS THAT WANT TO GET EXPERIENCE IN MORE LIFELIKE SHOOTING. YOU WILL SHOOT WHILE WALKING\, FROM STANDING AND KNEELING POSITIONS\, BEHIND A BARRACADE\, THROUGH A WINDOW\, WITH ONE OR BOTH HANDS\, ETC. THIS COMPETITION IS DESIGNED TO PREPARE YOU FOR MORE LIFELIKE SHOOTING SCENARIOS THAN YOUR STANDARD STATIC SHOOTING RANGE CAN OFFER.\nREQUIREMENTS:\nA HANDGUN (NO SIG SAUER P320’S OR ANY VARIANT OF SIG SAUER P320 ALLOWED)\nAN UNDERSTANDING HOW TO SAFELY LOAD\, UNLOAD\, AND OPERATE YOUR HANDGUN\n100RDS BRASS-CASED\, JACKETED AMMUNITION\nIF USING A HOLSTER: IT MUST BE RIGID AND COVER THE TRIGGER OF THE FIREARM WHILE HOLSTERED. NO SERPA RETENTION ALLOWED\nIF USING A PISTOL BAG/BOX: PLEASE ENSURE THAT IT IS MARKED/SHAPED SO THAT MUZZLE ORIENTATION CAN BE DETERMINED BEFORE OPENING THE CASE\nEYE AND HEARING PROTECTION\nRECOMMENDATIONS:\nAT LEAST ONE SPARE MAGAZINE/MOON CLIP\, SPEED LOADER\, ETC. FOR YOUR FIREARM\nMAGAZINE CARRIER\nCLOSED-TOE SHOES\nA SHIRT WITH A HIGH COLLAR\nNO SIG SAUER P320 PISTOLS\, OR ANY VARIANT OF SIG SAUER P320 WILL BE ALLOWED AT BELLEVUE INDOOR RANGE.\nPLEASE ADDRESS ANY QUESTIONS TO: Adams@BellevueIndoorRange.com\n— PLEASE NOTE: PREGNANT WOMEN ARE NOT ALLOWED ON THE RANGE —\n— ALL FIRST TIME/NEW ASI SHOOTERS AT BELLEVUE INDOOR RANGE NEED TO ARRIVE BY 5:30PM FOR MANDATORY NEW SHOOTER BRIEFING. NO NEW SHOOTERS WILL BE ALLOWED TO PARTICIPATE WITHOUT IT\, REGARDLESS OF COMPETITIVE SHOOTING EXPERIENCE ELSEWHERE —
URL:https://gunstuff.tv/event/bellevue-indoor-range-asi/
LOCATION:13570 BEL-RED RD\, Bellevue\, WA\, United States
GEO:47.615471;-122.207221
END:VEVENT
END:VCALENDAR