BEGIN:VCALENDAR
VERSION:2.0
PRODID:-//GunStuff TV - ECPv6.15.20//NONSGML v1.0//EN
CALSCALE:GREGORIAN
METHOD:PUBLISH
X-ORIGINAL-URL:https://gunstuff.tv
X-WR-CALDESC:Events for GunStuff TV
REFRESH-INTERVAL;VALUE=DURATION:PT1H
X-Robots-Tag:noindex
X-PUBLISHED-TTL:PT1H
BEGIN:VTIMEZONE
TZID:UTC
BEGIN:STANDARD
TZOFFSETFROM:+0000
TZOFFSETTO:+0000
TZNAME:UTC
DTSTART:20250101T000000
END:STANDARD
END:VTIMEZONE
BEGIN:VEVENT
DTSTART;TZID=UTC:20260425T140000
DTEND;TZID=UTC:20260425T163000
DTSTAMP:20260424T072642
CREATED:20260421T200321Z
LAST-MODIFIED:20260421T200321Z
UID:10008301-1777125600-1777134600@gunstuff.tv
SUMMARY:The Gallery Action Pistol Match- 4-25-26
DESCRIPTION:ACTION PISTOL:\nIDPA: Targets\, Scoring\, Stages\, with Penalties called according to IDPA rulebook.  All Safety Rules Strictly Enforced.\nRelaxed IDPA Rules: Non-conforming Firearms and holsters Permitted\, Fully Loaded Magazines are Permitted\, Magazines containing live rounds may be dropped during reloads\,Concealment Garment Optional\nFurther Clarification and Guidance will be provided during Stage Walk Throughs.\nPlease arrive early to help set up (doors will be open at 7am). We need to have one bay cleared by 10am so the sooner we start shooting the better.\nIf you have never shot an IDPA match at The Gallery\, welcome. Please arrive at 7am to check in and pay match fees. By 7:15 am proceed to the Oakley Training Room for the mandatory Introduction\, Safety Briefing\, and Holster Check. New shooters that are late for this meeting will not be able to shoot the match.   \nThere will be an all shooters briefing at 7:45 am with Squad assignments immediately following.  \nFirst shots must start no later than 8:00 am.  Last shots 10:30 am.  \nThere will be 4 courses of fire (COFs) that were used for the previous week’s IDPA Level ! Match.\nMatch Entry Fees:\nMembers = $10\nNon-Members = $20\nArrive early or hang out after the match at the Evermore Coffee  Shop.  Match shooters can get a Bonfire Breakfast Burrito and a 12 oz beverage for $10.00 or a pastry and 12 oz beverage for $5.50.\nLet’s have some fun!
URL:https://gunstuff.tv/event/the-gallery-action-pistol-match-4-25-26/
LOCATION:1350 Colorado Mills Parkway\, Lakewood\, CO\, United States
GEO:39.744773;-105.115977
END:VEVENT
END:VCALENDAR