BEGIN:VCALENDAR
VERSION:2.0
PRODID:-//GunStuff TV - ECPv6.15.20//NONSGML v1.0//EN
CALSCALE:GREGORIAN
METHOD:PUBLISH
X-ORIGINAL-URL:https://gunstuff.tv
X-WR-CALDESC:Events for GunStuff TV
REFRESH-INTERVAL;VALUE=DURATION:PT1H
X-Robots-Tag:noindex
X-PUBLISHED-TTL:PT1H
BEGIN:VTIMEZONE
TZID:UTC
BEGIN:STANDARD
TZOFFSETFROM:+0000
TZOFFSETTO:+0000
TZNAME:UTC
DTSTART:20250101T000000
END:STANDARD
END:VTIMEZONE
BEGIN:VEVENT
DTSTART;TZID=UTC:20260425T140000
DTEND;TZID=UTC:20260425T190000
DTSTAMP:20260424T090225
CREATED:20260421T200335Z
LAST-MODIFIED:20260421T200335Z
UID:10008429-1777125600-1777143600@gunstuff.tv
SUMMARY:AASA 4th Saturday Fun Shoot 4-25-26 at A Place To Shoot
DESCRIPTION:5 Great courses of fire.  Some all steel and combined steel and coroplast courses and some all paper courses.  Fast\, fun and challenging for all skill levels.  New/Novice shooters encouraged to shoot Short Courses using only 1 box of ammo.  Minimum rounds for long courses approximately 100 rounds\, or 2 boxes of ammo.  Shoot a 2nd gun for only $5.00 extra. Entry fee for AASA members only $20.00\, non-members $25.00.  Cash\, Check\, Or PayPal At Check-In. Gates open at A Place To Shoot Range at 0900 hours.  See their web page at: www.aplacetoshoot.com for directions.
URL:https://gunstuff.tv/event/aasa-4th-saturday-fun-shoot-4-25-26-at-a-place-to-shoot/
LOCATION:13250 Pleasanton Road\, San Antonio Texas\, United States
END:VEVENT
END:VCALENDAR