BEGIN:VCALENDAR
VERSION:2.0
PRODID:-//GunStuff TV - ECPv6.15.20//NONSGML v1.0//EN
CALSCALE:GREGORIAN
METHOD:PUBLISH
X-WR-CALNAME:GunStuff TV
X-ORIGINAL-URL:https://gunstuff.tv
X-WR-CALDESC:Events for GunStuff TV
REFRESH-INTERVAL;VALUE=DURATION:PT1H
X-Robots-Tag:noindex
X-PUBLISHED-TTL:PT1H
BEGIN:VTIMEZONE
TZID:UTC
BEGIN:STANDARD
TZOFFSETFROM:+0000
TZOFFSETTO:+0000
TZNAME:UTC
DTSTART:20250101T000000
END:STANDARD
END:VTIMEZONE
BEGIN:VEVENT
DTSTART;TZID=UTC:20260424T200000
DTEND;TZID=UTC:20260424T233000
DTSTAMP:20260421T195532
CREATED:20260421T200313Z
LAST-MODIFIED:20260421T200313Z
UID:10008238-1777060800-1777073400@gunstuff.tv
SUMMARY:Classic Pistol Hit Factor Match April 24th
DESCRIPTION:Indoor Hit Factor Match\nOur matches feature one speed shoot and two small field courses. We follow USPSA rules and divisions.\nExpect to shoot approximately 50–60 rounds per night.\nWe run a two-squad\, two–time slot format. Time slots will be visible during squadding.\nSquad 1: Please arrive before 4:00 PM.\nSquad 2: Please arrive around 5:30 PM.\nSquad 2 will begin once Squad 1 finishes\, typically between 5:30–6:00 PM.\nAfter you register please select a squad. It’s the only way to shoot that time slot.\nRequired gear: Eye and ear protection\, a handgun\, enough magazines to handle up to a 32-round stage\, a holster (OWB or IWB)\, and magazine carriers.\nNew shooters: Please arrive 15–20 minutes early for a brief safety and match overview.\nIf you have any questions\, please reach out. See you all at the match.
URL:https://gunstuff.tv/event/classic-pistol-hit-factor-match-april-24th/
LOCATION:1310 Industrial Blvd\, Southampton\, PA\, United States
GEO:40.186758;-75.007099
END:VEVENT
END:VCALENDAR