BEGIN:VCALENDAR
VERSION:2.0
PRODID:-//GunStuff TV - ECPv6.15.20//NONSGML v1.0//EN
CALSCALE:GREGORIAN
METHOD:PUBLISH
X-WR-CALNAME:GunStuff TV
X-ORIGINAL-URL:https://gunstuff.tv
X-WR-CALDESC:Events for GunStuff TV
REFRESH-INTERVAL;VALUE=DURATION:PT1H
X-Robots-Tag:noindex
X-PUBLISHED-TTL:PT1H
BEGIN:VTIMEZONE
TZID:UTC
BEGIN:STANDARD
TZOFFSETFROM:+0000
TZOFFSETTO:+0000
TZNAME:UTC
DTSTART:20250101T000000
END:STANDARD
END:VTIMEZONE
BEGIN:VEVENT
DTSTART;TZID=UTC:20260411T113000
DTEND;TZID=UTC:20260411T220000
DTSTAMP:20260424T104705
CREATED:20260407T195436Z
LAST-MODIFIED:20260407T195436Z
UID:10007220-1775907000-1775944800@gunstuff.tv
SUMMARY:2026 Oregon Battle of the Badges (LE ONLY)
DESCRIPTION:Date: April 11\, 2026\nEvent Details:\nCheck-in: 0730\nSafety Brief (Attendance Required): 0800\nHammer Down: 0830\nDivisions:\nOptics (Active LE Only)\nIron Sights (Active LE Only)\nWomen (Active or Retired LE Only)\nRetired (Retired LE Only)\nRequired Gear:\nDuty Firearm\nDuty belt & pouches\nBody armor\n250 rounds of ammo\nWrap-around eye protection\nBrimmed hat\nEar protection \nRefund Policy\n-More than 30 days before the event: Full refund available.\n-30 days or less before the event: No refunds. Registration may be transferred to another Battle of the Badges event within the same calendar year.\n-No-shows: No refund or transfer.
URL:https://gunstuff.tv/event/2026-oregon-battle-of-the-badges-le-only/
LOCATION:13050 SW Tonquin Road\, Sherwood OR\, United States
END:VEVENT
END:VCALENDAR