BEGIN:VCALENDAR
VERSION:2.0
PRODID:-//GunStuff TV - ECPv6.15.20//NONSGML v1.0//EN
CALSCALE:GREGORIAN
METHOD:PUBLISH
X-ORIGINAL-URL:https://gunstuff.tv
X-WR-CALDESC:Events for GunStuff TV
REFRESH-INTERVAL;VALUE=DURATION:PT1H
X-Robots-Tag:noindex
X-PUBLISHED-TTL:PT1H
BEGIN:VTIMEZONE
TZID:UTC
BEGIN:STANDARD
TZOFFSETFROM:+0000
TZOFFSETTO:+0000
TZNAME:UTC
DTSTART:20250101T000000
END:STANDARD
END:VTIMEZONE
BEGIN:VEVENT
DTSTART;TZID=UTC:20260425T140000
DTEND;TZID=UTC:20260425T180000
DTSTAMP:20260424T085927
CREATED:20260421T200324Z
LAST-MODIFIED:20260421T200324Z
UID:10008328-1777125600-1777140000@gunstuff.tv
SUMMARY:Long Gong Clear Spring\, April (4th Saturday)
DESCRIPTION:WELCOME TO LONG GONG @ Izaak Walton Clear Spring!!\nTHE GAME- This is a 300 yd. shooting challenge using any riﬂes chambered in .22 LR only. The object is to\nShoot the highest score possible.\nTHE TARGET- The targets are AR400 1/8″ thick rimﬁre gongs\, an 8”\, a 6”\, and a 4” gong. Each gong has a value\, 1 point for the 8”\, 2 points for the 6”\, and 3 points for the 4” gong.\nTHE SETUP- From a bench rest (limited to bipods and bags\, no sleds) each shooter\, with 10 rounds of ammunition begins by shooting for the 8” gong. The shooter has a 3-minute time limit to complete their round\, the clock starts with their ﬁrst shot.\nTHE ORDER- If the shooter hits the 8”\, they score 1 point and now can choose to advance to the 6” gong or continue shooting for the 8” gong. If the shooter advances to the 6” gong and connects\, that hit is worth 2 points\, and they now can choose to shoot for the 4” gong.\nTHE RULES- The shooter must tell the scorekeeper when they switch gongs. A hit only counts if it’s a solid gong hit\, chain or hanger hits do not count. If the shooter misses\, they must go back one gong. If the shooter shoots the wrong gong\, it counts as a zero and the shooter must resume shooting on the correct gong.\nTHE SCORE- The score is totaled after each shooter\, with a possible high score of 27 points (1+2+3+3+3+3+3+3+3+3=27). A complete game has every shooter ﬁre 5 complete sets for a total of 50 rounds of ammunition (1 full box). The highest possible score for a competition is 135 points. In case of a tie score\, the winner is determined by the shooter with the highest single round score.\nTHE COMPETITORS- The order of the shooters in the ﬁrst set is determined by drawing numbered chips\, and in each successive set the order of the shooters is determined by the scores\, with the lowest score shooting ﬁrst. If two or more shooters have identical scores\, whoever shot the score initially will shoot ﬁrst in the following round. (If Tom shoots an 11\, and then Dave also shoots an 11\, Tom will go before Dave in the following round.)\nTHE CHALLENGE- Hitting gongs at 300 yds. with a .22 LR is challenging. Hitting them repeatedly under changing conditions requires all the fundamentals used by the best long-distance shooters in the world. Do you think you have what it takes?\nNote: We will mix the distances up in the beginning matches (i.e.\, 2 rounds @ 200 yards\, then 3 rounds @ 300 yards).\nWe will give a one 5 minute sight in time before the 1st round @ 200 yds of the match on a 11″ x 18″ steel plate only. This is done when it is your turn to shoot only.\nPlease come out and join us for some\, or all these events. While competitive in spirit\, these matches are fun shoots and there are plenty of shooters willing to help if you are interested in joining us!\nTime:\n-Gates Open: 0830\n-Check-in: 0900\n-Match Brief: 09:45\n-Match Start: 10:00\n-Cost: $10 for IWLA Clear Spring members\, $15 for non members\nThere is no sight in period before match starts – come ready to shoot.\nThe match is held at the IWLA Clear Spring pistol range off of Independence Rd. Note that the Route 40 bridge over Conococheague Creek and the south portion of Independence Rd  will be closed for bridge construction.There will be no entry off Route 40 from the East.  Entry will be via Rockdale Rd and Independence Rd from the north.  Signs should be posted to detour around the bridge closure.\nGPS coordinates of the pistol range:  39.662696\, -77.837639
URL:https://gunstuff.tv/event/long-gong-clear-spring-april-4th-saturday/
LOCATION:12759 Independence Rd\, Clear Spring Maryland\, United States
END:VEVENT
END:VCALENDAR