BEGIN:VCALENDAR
VERSION:2.0
PRODID:-//GunStuff TV - ECPv6.15.20//NONSGML v1.0//EN
CALSCALE:GREGORIAN
METHOD:PUBLISH
X-WR-CALNAME:GunStuff TV
X-ORIGINAL-URL:https://gunstuff.tv
X-WR-CALDESC:Events for GunStuff TV
REFRESH-INTERVAL;VALUE=DURATION:PT1H
X-Robots-Tag:noindex
X-PUBLISHED-TTL:PT1H
BEGIN:VTIMEZONE
TZID:UTC
BEGIN:STANDARD
TZOFFSETFROM:+0000
TZOFFSETTO:+0000
TZNAME:UTC
DTSTART:20250101T000000
END:STANDARD
END:VTIMEZONE
BEGIN:VEVENT
DTSTART;TZID=UTC:20260425T133000
DTEND;TZID=UTC:20260425T190000
DTSTAMP:20260424T085523
CREATED:20260421T200316Z
LAST-MODIFIED:20260421T200316Z
UID:10008267-1777123800-1777143600@gunstuff.tv
SUMMARY:April 25 2026 F-Class Match
DESCRIPTION:ENGC  600 yard mid range match.  60 shots (3X20)  Unlimited sighters in stage 1\, two sighters in stages 2 and 3. We will be using Shot Marker electronic targets.  Bring a web browser that you are familiar with.  Register prior to noon on 24-October (Friday).  35 shooters max.  Normal fee is $20.  Late registration may or may not be allowed depending on conditions. If allowed\, late reg is $30.  See Match Bulletin at nebraskafclass.com for complete details. Range is open about 0700 Saturday morning. You must sign in prior to 0815 on the 600 yard firing line.\nWE WILL BEGIN AS SOON AS EVERYONE IS SIGNED IN.
URL:https://gunstuff.tv/event/april-25-2026-f-class-match/
LOCATION:12700 Nebraska Highway 66\, Louisville\, NE\, United States
GEO:40.979898;-96.084122
END:VEVENT
END:VCALENDAR