BEGIN:VCALENDAR
VERSION:2.0
PRODID:-//GunStuff TV - ECPv6.15.20//NONSGML v1.0//EN
CALSCALE:GREGORIAN
METHOD:PUBLISH
X-ORIGINAL-URL:https://gunstuff.tv
X-WR-CALDESC:Events for GunStuff TV
REFRESH-INTERVAL;VALUE=DURATION:PT1H
X-Robots-Tag:noindex
X-PUBLISHED-TTL:PT1H
BEGIN:VTIMEZONE
TZID:UTC
BEGIN:STANDARD
TZOFFSETFROM:+0000
TZOFFSETTO:+0000
TZNAME:UTC
DTSTART:20250101T000000
END:STANDARD
END:VTIMEZONE
BEGIN:VEVENT
DTSTART;TZID=UTC:20260412T133000
DTEND;TZID=UTC:20260412T190000
DTSTAMP:20260424T104541
CREATED:20260407T195448Z
LAST-MODIFIED:20260407T195448Z
UID:10007331-1776000600-1776020400@gunstuff.tv
SUMMARY:Wallis Orchard APRIL 2026 SUNDAY USPSA Match
DESCRIPTION:Hello Shooters and Welcome!\nGet ready for action—**HAMMER DOWN** at **0830**! The shooters’ meeting kicks off at **0815**.\nHere are the details:\n— **Match Fee**: $40.00\nPAYMENT MUST BE MADE AT THE TIME OF REGISTRATION!  If you are able to register and payment is not made you will be deleted from the match and must reregister.\n— We’re now accepting **online payments**!\n— Refunds (minus fees) available up to **48 hours** before the match starts.\n— This month\, we have **7 stages** lined up.\nJoin us in **Bay 2**\, right across from the Conex’s\, for the shooters’ meeting. And remember\, our match is **new shooter friendly**! If you’re curious about the sport or know someone who is\, come shoot with us!\n**New shooters**: Be there at **0800** for a briefing from one of our WOPS members.\nNO WAITLIST IS ENABLED! If the match if full check back later.\nStay safe\, and we can’t wait to see you at the match!
URL:https://gunstuff.tv/event/wallis-orchard-april-2026-sunday-uspsa-match/
LOCATION:12206 Reinecke Rd\, Wallis TX\, United States
END:VEVENT
BEGIN:VEVENT
DTSTART;TZID=UTC:20260411T133000
DTEND;TZID=UTC:20260411T190000
DTSTAMP:20260424T104542
CREATED:20260407T195423Z
LAST-MODIFIED:20260407T195423Z
UID:10007090-1775914200-1775934000@gunstuff.tv
SUMMARY:Wallis Orchard APRIL 2026 SATURDAY USPSA Match
DESCRIPTION:Hello Shooters and Welcome!\nGet ready for action—**HAMMER DOWN** at **0830**! The shooters’ meeting kicks off at **0815**.\nGETTING READY FOR TEXAS OPEN?   COME SHOOT BOTH DAYS!\nSIGN UP FOR SUNDAY HERE!\nhttps://practiscore.com/wallis-orchard-april-2026-sunday-uspsa-match/register\nHere are the details:\n— **Match Fee**: $40.00\nPAYMENT MUST BE MADE AT THE TIME OF REGISTRATION!  If you are able to register and payment is not made you will be deleted from the match and must reregister.\n— We’re now accepting **online payments**!\n— Refunds (minus fees) available up to **48 hours** before the match starts.\n— This month\, we have **7 stages** lined up.\nJoin us in **Bay 2**\, right across from the Conex’s\, for the shooters’ meeting. And remember\, our match is **new shooter friendly**! If you’re curious about the sport or know someone who is\, come shoot with us!\n**New shooters**: Be there at **0800** for a briefing from one of our WOPS members.\nNO WAITLIST IS ENABLED! If the match if full check back later.\nStay safe\, and we can’t wait to see you at the match!
URL:https://gunstuff.tv/event/wallis-orchard-april-2026-saturday-uspsa-match/
LOCATION:12206 Reinecke Rd\, Wallis TX\, United States
END:VEVENT
END:VCALENDAR