BEGIN:VCALENDAR
VERSION:2.0
PRODID:-//GunStuff TV - ECPv6.15.20//NONSGML v1.0//EN
CALSCALE:GREGORIAN
METHOD:PUBLISH
X-ORIGINAL-URL:https://gunstuff.tv
X-WR-CALDESC:Events for GunStuff TV
REFRESH-INTERVAL;VALUE=DURATION:PT1H
X-Robots-Tag:noindex
X-PUBLISHED-TTL:PT1H
BEGIN:VTIMEZONE
TZID:UTC
BEGIN:STANDARD
TZOFFSETFROM:+0000
TZOFFSETTO:+0000
TZNAME:UTC
DTSTART:20250101T000000
END:STANDARD
END:VTIMEZONE
BEGIN:VEVENT
DTSTART;TZID=UTC:20260425T150000
DTEND;TZID=UTC:20260426T010000
DTSTAMP:20260421T171659
CREATED:20260421T200337Z
LAST-MODIFIED:20260421T200337Z
UID:10008453-1777129200-1777165200@gunstuff.tv
SUMMARY:Brooks PAL Course April 25
DESCRIPTION:Cost is $150. This course is required in order to obtain a Firearms Possession and Acquisition License. You will be introduced to non restricted firearms (river and shotguns) basic firearm safety\, ammunition\, how to operate a firearm along with safe handling and carrying techniques. Minimum age for the course is 12. The course is eight hours in length and as soon as the course is done\, exams will take place. The exam consists of one written and one-on-one practical exam (20 minutes each)
URL:https://gunstuff.tv/event/brooks-pal-course-april-25/
LOCATION:1217 2 St W\,\, Brooks AB\, Canada
END:VEVENT
END:VCALENDAR