BEGIN:VCALENDAR
VERSION:2.0
PRODID:-//GunStuff TV - ECPv6.15.20//NONSGML v1.0//EN
CALSCALE:GREGORIAN
METHOD:PUBLISH
X-WR-CALNAME:GunStuff TV
X-ORIGINAL-URL:https://gunstuff.tv
X-WR-CALDESC:Events for GunStuff TV
REFRESH-INTERVAL;VALUE=DURATION:PT1H
X-Robots-Tag:noindex
X-PUBLISHED-TTL:PT1H
BEGIN:VTIMEZONE
TZID:UTC
BEGIN:STANDARD
TZOFFSETFROM:+0000
TZOFFSETTO:+0000
TZNAME:UTC
DTSTART:20250101T000000
END:STANDARD
END:VTIMEZONE
BEGIN:VEVENT
DTSTART;TZID=UTC:20260418T133000
DTEND;TZID=UTC:20260418T173000
DTSTAMP:20260424T073936
CREATED:20260414T200232Z
LAST-MODIFIED:20260414T200232Z
UID:10007849-1776519000-1776533400@gunstuff.tv
SUMMARY:Practical Tactical Training
DESCRIPTION:**********About**********\nThe intent of Practical Tactical Training (PTT) is to provide recreational training to improve both pistol & rifle marksmanship. Our goal is to provide a safe\, supportive\, and enjoyable training environment intended for novice through intermediate shooters. The training environment is “dynamic” and includes a level of duress\, body movements\, and the use of multiple shooting positions to improve the shooting skills of each participant.  Please review the Format and Equipment requirements here: https://stmtc.org/ptt.  However\, the match can be modified to meet your individual equipment and training needs.\n**********Location**********\nThis training event is held at the Blackhawk Shooting Range.\n**********Time**********\nPlease Arrive No Later than 8:30 am.  The Safety Briefing is at 8:45 am and shooting begins immediately afterward. The event should be concluded between 12:30pm -1:00pm.\n**********Match Fee**********\n$25 for adult Non-Members\n$20 for adult Members/Military\n$15 for spouse/juniors\n *** $10 Discount for shooters who help Stage Set-up on Friday 4/17/26 at 3:00 pm ***
URL:https://gunstuff.tv/event/practical-tactical-training/
LOCATION:12135 Jarratt Road\, Atascosa Texas\, United States
END:VEVENT
END:VCALENDAR