BEGIN:VCALENDAR
VERSION:2.0
PRODID:-//GunStuff TV - ECPv6.15.20//NONSGML v1.0//EN
CALSCALE:GREGORIAN
METHOD:PUBLISH
X-ORIGINAL-URL:https://gunstuff.tv
X-WR-CALDESC:Events for GunStuff TV
REFRESH-INTERVAL;VALUE=DURATION:PT1H
X-Robots-Tag:noindex
X-PUBLISHED-TTL:PT1H
BEGIN:VTIMEZONE
TZID:UTC
BEGIN:STANDARD
TZOFFSETFROM:+0000
TZOFFSETTO:+0000
TZNAME:UTC
DTSTART:20250101T000000
END:STANDARD
END:VTIMEZONE
BEGIN:VEVENT
DTSTART;TZID=UTC:20260425T140000
DTEND;TZID=UTC:20260425T183000
DTSTAMP:20260424T085522
CREATED:20260421T200318Z
LAST-MODIFIED:20260421T200318Z
UID:10008282-1777125600-1777141800@gunstuff.tv
SUMMARY:Texas Tactical IDPA Match @ Total Hit Ranch 4.25.2026
DESCRIPTION:EVENT: IDPA Match\nDATE: Saturday April 25th\nLOCATION: Total Hit Ranch\nSIGN UP:  0900hrs – 0945hrs\nPAYMENT: Match Fee is $33 if paid in cash at Range.\nOnline Payments add a $2 service fee.\nREFUNDS: Refunds will be given for withdrawals up until close of registration at 9pm the night before the match. (Convenience Fee unfortunately is nonrefundable) Once processed\, *Refunds will take 5 to 10 days to be received.\n We also have .22 and PCC Divisions available.\nThe match is open to all safe shooters of any age or skill level.\nIf you have any questions un feel free to email us at IronMike@TexasTactical.Net\nHope to see y’all there!\nMichael “Iron Mike” Webb
URL:https://gunstuff.tv/event/texas-tactical-idpa-match-total-hit-ranch-4-25-2026/
LOCATION:12135 Jarrat Rd\, Atascosa\, TX\, United States
GEO:29.279376;-98.735851
END:VEVENT
END:VCALENDAR