BEGIN:VCALENDAR
VERSION:2.0
PRODID:-//GunStuff TV - ECPv6.15.20//NONSGML v1.0//EN
CALSCALE:GREGORIAN
METHOD:PUBLISH
X-ORIGINAL-URL:https://gunstuff.tv
X-WR-CALDESC:Events for GunStuff TV
REFRESH-INTERVAL;VALUE=DURATION:PT1H
X-Robots-Tag:noindex
X-PUBLISHED-TTL:PT1H
BEGIN:VTIMEZONE
TZID:UTC
BEGIN:STANDARD
TZOFFSETFROM:+0000
TZOFFSETTO:+0000
TZNAME:UTC
DTSTART:20250101T000000
END:STANDARD
END:VTIMEZONE
BEGIN:VEVENT
DTSTART;TZID=UTC:20260418T140000
DTEND;TZID=UTC:20260418T200000
DTSTAMP:20260424T073821
CREATED:20260414T200221Z
LAST-MODIFIED:20260414T200221Z
UID:10007747-1776520800-1776542400@gunstuff.tv
SUMMARY:Casper Precision Rifle - April
DESCRIPTION:8-10 stages\, Approximately 90-100 rounds. Target ranges between 200-1000+ yards.\nMatch fee is $50. Please bring Cash payment or Venmo at check in.\nShooters will meet at Platte River Rod and Gun Clubs main clubhouse.\nSafety briefing will begin approximately 08:00 a.m.
URL:https://gunstuff.tv/event/casper-precision-rifle-april/
LOCATION:12 Road\, Casper WY\, United States
END:VEVENT
END:VCALENDAR