BEGIN:VCALENDAR
VERSION:2.0
PRODID:-//GunStuff TV - ECPv6.15.20//NONSGML v1.0//EN
CALSCALE:GREGORIAN
METHOD:PUBLISH
X-WR-CALNAME:GunStuff TV
X-ORIGINAL-URL:https://gunstuff.tv
X-WR-CALDESC:Events for GunStuff TV
REFRESH-INTERVAL;VALUE=DURATION:PT1H
X-Robots-Tag:noindex
X-PUBLISHED-TTL:PT1H
BEGIN:VTIMEZONE
TZID:UTC
BEGIN:STANDARD
TZOFFSETFROM:+0000
TZOFFSETTO:+0000
TZNAME:UTC
DTSTART:20250101T000000
END:STANDARD
END:VTIMEZONE
BEGIN:VEVENT
DTSTART;TZID=UTC:20260422T100000
DTEND;TZID=UTC:20260423T000000
DTSTAMP:20260422T210655
CREATED:20260421T200304Z
LAST-MODIFIED:20260421T200304Z
UID:10008150-1776852000-1776902400@gunstuff.tv
SUMMARY:Freedom Outdoors: Douglasville Monthly LOW-LIGHT IDPA by WGTS - April 22nd 2026
DESCRIPTION:Welcome to the registration page for the Indoor IDPA match at Freedom Outdoors in Douglasville\, GA\nThis is a monthly LOW-LIGHT Tier I IDPA match held on the 4th Monday of every month. There is a regular Tier I IDPA match on the 2nd Monday of every month.  We try to complete between 4 scenario stages each match and up to 2 standards stages. The number of rounds required is between 80-100 rounds. Please bring at least 100 rounds in case of malfunction or reshoot. No steel-core or steel-cased ammunition is allowed on the range. Common calibers are available for purchase from Freedom Outdoors on site.\nIDPA matches require a safe and operational firearm\, at least two magazines (three is ideal)\, magazine carriers to hold the magazines on your belt\, and a concealment garment such as a fishing vest or Hawaiian shirt.\nTHIS IS A LOW-LIGHT MATCH MEANING TARGETS ARE ENGAGED WITH THE LIGHTS OFF. A FLASHLIGHT IS REQUIRED FOR SAFETY.\nWeapon mounted lights are okay in IDPA\, and it is also recommended to bring a smaller handheld flashlight for scoring pasting and walking around after the stage.\nPlease sign in at the counter to fill out paperwork and process payment prior to entering the range bays. The match begins at 6:00PM\, and shooters are encouraged to arrive prior to 6:00 to assist with setup. New shooters please arrive 30 minutes prior (5:30) to receive a short required safety briefing.\nRegistration is open to current IDPA members and anyone interested in becoming an IDPA member and competitor. If you are not a member of IDPA\, leave your IDPA member number blank on the registration form. While membership is not required to shoot local matches\, shooters are encouraged after the third match to join. For more information on the benefits of membership\, and to join IDPA please visit the following link: https://www.idpa.com/membership/\nSchedule:\n5:30PM – Setup\, New Shooter Safety Briefing\n6:00PM – Club Announcements\, Shooting Begins\n8:30PM – Match Ends\, Teardown of Stages\, Meal at Local Restaurant\nWe look forward to seeing you at the match!
URL:https://gunstuff.tv/event/freedom-outdoors-douglasville-monthly-low-light-idpa-by-wgts-april-22nd-2026/
LOCATION:11947 Veterans Memorial Hwy.\, Douglasville\, GA\, United States
GEO:33.68966;-84.744595
END:VEVENT
END:VCALENDAR