BEGIN:VCALENDAR
VERSION:2.0
PRODID:-//GunStuff TV - ECPv6.15.20//NONSGML v1.0//EN
CALSCALE:GREGORIAN
METHOD:PUBLISH
X-WR-CALNAME:GunStuff TV
X-ORIGINAL-URL:https://gunstuff.tv
X-WR-CALDESC:Events for GunStuff TV
REFRESH-INTERVAL;VALUE=DURATION:PT1H
X-Robots-Tag:noindex
X-PUBLISHED-TTL:PT1H
BEGIN:VTIMEZONE
TZID:UTC
BEGIN:STANDARD
TZOFFSETFROM:+0000
TZOFFSETTO:+0000
TZNAME:UTC
DTSTART:20250101T000000
END:STANDARD
END:VTIMEZONE
BEGIN:VEVENT
DTSTART;TZID=UTC:20260411T130000
DTEND;TZID=UTC:20260411T180000
DTSTAMP:20260424T104704
CREATED:20260407T195430Z
LAST-MODIFIED:20260407T195430Z
UID:10007164-1775912400-1775930400@gunstuff.tv
SUMMARY:SRR&PC Steel Challenge Saturday April 11 2026
DESCRIPTION:Club level 1 Steel Challenge match. Fun for everyone from Grandparents to Grandkids. 4 stages\, 100 rounds\, but bring 200 rounds minimum for each gun. Five mags per gun is nice but not required. If shooting a centerfire pistol\, you must have a holster. Note: THE SIG P320 Temporary ban has been lifted at SRR&PC range facilities.\n$10 per gun\, limit of 2 guns (each gun must be in a separate division)\nDiscounts if applicable:\nPre-teens and Juniors: First gun free ($10 off total)\nIf you have any questions\, please email Randy Doucet at steelchallenge@srrpcaiken.com or text/call at 803-243-6772.\nCheck-in will start around 8:20 and wrap up around 8:50 with hammer down promptly at 9:00. Check-in before 8:45 or risk losing your spot. At 8:45 we remove those who have not shown so that we can balance the squads.\nIf you want to shoot a second gun\, you must register a second time for the second gun (and select the same squad).\nDivisions:\nISR Iron Sighted Revolver\nOSR Optic Sighted Revolver\nPROD Production\nCO Carry Optics\nSS Single Stack\nOPN Open\nLTD Limited\nRFPI Rimfire Pistol Iron\nRFPO Rimfire Pistol Optic\nRFRI Rimfire Rifle Iron\nRFRO Rimfire Rifle Optic\nPCCO Pistol Caliber Carbine Optic\nPCCI Pistol Caliber Carbine Iron\nLO Limited Optics\nRRI Rimfire Revolver Iron\nRRO Rimfire Revolver Optic\nPlease feel free to download the rules in pdf format to have with you and answer most questions you may have.\nSCSA Rule PDF Download Link: https://scsa.org/rules
URL:https://gunstuff.tv/event/srrpc-steel-challenge-saturday-april-11-2026/
LOCATION:1184 Kirkland Street\, Batesburg SC\, United States
END:VEVENT
END:VCALENDAR