BEGIN:VCALENDAR
VERSION:2.0
PRODID:-//GunStuff TV - ECPv6.15.20//NONSGML v1.0//EN
CALSCALE:GREGORIAN
METHOD:PUBLISH
X-WR-CALNAME:GunStuff TV
X-ORIGINAL-URL:https://gunstuff.tv
X-WR-CALDESC:Events for GunStuff TV
REFRESH-INTERVAL;VALUE=DURATION:PT1H
X-Robots-Tag:noindex
X-PUBLISHED-TTL:PT1H
BEGIN:VTIMEZONE
TZID:UTC
BEGIN:STANDARD
TZOFFSETFROM:+0000
TZOFFSETTO:+0000
TZNAME:UTC
DTSTART:20250101T000000
END:STANDARD
END:VTIMEZONE
BEGIN:VEVENT
DTSTART;TZID=UTC:20260418T150000
DTEND;TZID=UTC:20260418T220000
DTSTAMP:20260424T074050
CREATED:20260414T200223Z
LAST-MODIFIED:20260414T200223Z
UID:10007764-1776524400-1776549600@gunstuff.tv
SUMMARY:MASH 2-Gun Action Challenge - Inaugural Match
DESCRIPTION:PLEASE SEE OUR WEBSITE FOR RULES & DETAILS: https://mash406.org/2gun  —  2-Gun Action Challenge: a 6-stage pistol + rifle match involving shooting\, physical\, and problem-solving challenges.  Alternative stage procedures will be provided for shooters who cannot perform physical challenges such as running hundreds of yards\, moving heavy objects\, or getting in and out of prone positions\, but alternative stage procedures will not be very competitive (carrying large time penalties).  Shooters are advised to bring 200 rounds for pistol and 200 rounds for rifle.  More important details at https://mash406.org/2gun
URL:https://gunstuff.tv/event/mash-2-gun-action-challenge-inaugural-match/
LOCATION:1142 Deer Creek Road\, East Missoula MT\, United States
END:VEVENT
END:VCALENDAR