BEGIN:VCALENDAR
VERSION:2.0
PRODID:-//GunStuff TV - ECPv6.15.20//NONSGML v1.0//EN
CALSCALE:GREGORIAN
METHOD:PUBLISH
X-ORIGINAL-URL:https://gunstuff.tv
X-WR-CALDESC:Events for GunStuff TV
REFRESH-INTERVAL;VALUE=DURATION:PT1H
X-Robots-Tag:noindex
X-PUBLISHED-TTL:PT1H
BEGIN:VTIMEZONE
TZID:UTC
BEGIN:STANDARD
TZOFFSETFROM:+0000
TZOFFSETTO:+0000
TZNAME:UTC
DTSTART:20250101T000000
END:STANDARD
END:VTIMEZONE
BEGIN:VEVENT
DTSTART;TZID=UTC:20260425T140000
DTEND;TZID=UTC:20260425T190000
DTSTAMP:20260424T060014
CREATED:20260421T200333Z
LAST-MODIFIED:20260421T200333Z
UID:10008417-1777125600-1777143600@gunstuff.tv
SUMMARY:TCSA  ACTION PISTOL MATCH 04-25-26
DESCRIPTION:There will be 5 stages in the match. Approximately 91 rounds minimum round count.  Always a good idea to bring extra ammunition and magazines to the match. New shooters must attend a safety orientation prior to the match\, given at 9:00 A.M. ; Registration closes promptly at 9:45 A.M. and is immediately followed by the safety briefing\, and shooting commences at 10:00 A.M.
URL:https://gunstuff.tv/event/tcsa-action-pistol-match-04-25-26/
LOCATION:1141 Carmichael Road\, Owego NY\, United States
END:VEVENT
END:VCALENDAR