BEGIN:VCALENDAR
VERSION:2.0
PRODID:-//GunStuff TV - ECPv6.15.20//NONSGML v1.0//EN
CALSCALE:GREGORIAN
METHOD:PUBLISH
X-ORIGINAL-URL:https://gunstuff.tv
X-WR-CALDESC:Events for GunStuff TV
REFRESH-INTERVAL;VALUE=DURATION:PT1H
X-Robots-Tag:noindex
X-PUBLISHED-TTL:PT1H
BEGIN:VTIMEZONE
TZID:UTC
BEGIN:STANDARD
TZOFFSETFROM:+0000
TZOFFSETTO:+0000
TZNAME:UTC
DTSTART:20250101T000000
END:STANDARD
END:VTIMEZONE
BEGIN:VEVENT
DTSTART;TZID=UTC:20260416T220000
DTEND;TZID=UTC:20260417T000000
DTSTAMP:20260424T100423
CREATED:20260414T200202Z
LAST-MODIFIED:20260414T200202Z
UID:10007575-1776376800-1776384000@gunstuff.tv
SUMMARY:Bowling Pin Shoot 4–16-2026
DESCRIPTION:This is an indoor bowling pin shoot with pneumatic auto-reset racks shot at out heated indoor range.  $10 for 10 racks.  ROs get one free slot.  .22lr pistols or rifles only please.  We use steel challenge safety rules.  Great for beginners or seasoned veterans alike.  Please sign up here.  Hope to see you all there!!!\nJeff LaFave\n517-404-1908\njlafave@mich.com
URL:https://gunstuff.tv/event/bowling-pin-shoot-4-16-2026/
LOCATION:1140 Butcher Rd\, Fenton\, MI\, United States
GEO:42.79781;-83.70495
END:VEVENT
END:VCALENDAR