BEGIN:VCALENDAR
VERSION:2.0
PRODID:-//GunStuff TV - ECPv6.15.20//NONSGML v1.0//EN
CALSCALE:GREGORIAN
METHOD:PUBLISH
X-ORIGINAL-URL:https://gunstuff.tv
X-WR-CALDESC:Events for GunStuff TV
REFRESH-INTERVAL;VALUE=DURATION:PT1H
X-Robots-Tag:noindex
X-PUBLISHED-TTL:PT1H
BEGIN:VTIMEZONE
TZID:UTC
BEGIN:STANDARD
TZOFFSETFROM:+0000
TZOFFSETTO:+0000
TZNAME:UTC
DTSTART:20250101T000000
END:STANDARD
END:VTIMEZONE
BEGIN:VEVENT
DTSTART;TZID=UTC:20260425T140000
DTEND;TZID=UTC:20260425T190000
DTSTAMP:20260421T173800
CREATED:20260421T200340Z
LAST-MODIFIED:20260421T200340Z
UID:10008468-1777125600-1777143600@gunstuff.tv
SUMMARY:Tuscola TCCC 4-25-26 Club Pistol Match
DESCRIPTION:TCCC CLUB PISTOL MATCH\nPCC CAN BE USED.\n4-5 COURSES OF FIRE\nROUND COUNT 125-150\nwww.tcccmi.com/match.html\nSTART\n9:30A SAFETY MEETING\n10:00A MATCH START\n$20 FEE – CASH PAID DAY OF MATCH\nQUESTIONS? CONTACT\nBRAD RAINEY 989-325-0469 OR\nTROY OLIVER 989-948-1243\nSEE YOU THERE!!\nHit Factor Scoring
URL:https://gunstuff.tv/event/tuscola-tccc-4-25-26-club-pistol-match/
LOCATION:1060 GUN CLUB RD\, CARO MI\, United States
END:VEVENT
END:VCALENDAR