BEGIN:VCALENDAR
VERSION:2.0
PRODID:-//GunStuff TV - ECPv6.15.20//NONSGML v1.0//EN
CALSCALE:GREGORIAN
METHOD:PUBLISH
X-ORIGINAL-URL:https://gunstuff.tv
X-WR-CALDESC:Events for GunStuff TV
REFRESH-INTERVAL;VALUE=DURATION:PT1H
X-Robots-Tag:noindex
X-PUBLISHED-TTL:PT1H
BEGIN:VTIMEZONE
TZID:UTC
BEGIN:STANDARD
TZOFFSETFROM:+0000
TZOFFSETTO:+0000
TZNAME:UTC
DTSTART:20250101T000000
END:STANDARD
END:VTIMEZONE
BEGIN:VEVENT
DTSTART;TZID=UTC:20260411T110000
DTEND;TZID=UTC:20260413T000000
DTSTAMP:20260424T090225
CREATED:20260407T195432Z
LAST-MODIFIED:20260407T195432Z
UID:10007188-1775905200-1776038400@gunstuff.tv
SUMMARY:The Tactical Games Regional Event - Parabellum Training Center Kingman Arizona
DESCRIPTION:The Tactical Games Regional –  Parabellum Training Center\, Kingman\, AZ\nPlease note: you will not be “Approved To Shoot” until the week leading up to the match. Please do not email requesting updates on this matter.\nA two day fitness and marksmanship competition. For more information about out sport\, and its format\, please head to www.thetacticalgames.com\nNo refunds are offered unless proof of military orders are provided. We offer deferrals up to 21 days ahead of competition\, there is a $50 fee for deferring to another match. Inside of 21 days\, a 50% credit will be applied to a future event entry fee.\nFor information about our refund and deferral policy please visit https://www.thetacticalgames.com/faqs/
URL:https://gunstuff.tv/event/the-tactical-games-regional-event-parabellum-training-center-kingman-arizona/
LOCATION:10473 N. Randolph Rd\, Kingman AZ\, United States
END:VEVENT
BEGIN:VEVENT
DTSTART;TZID=UTC:20260411T110000
DTEND;TZID=UTC:20260412T230000
DTSTAMP:20260424T090225
CREATED:20260407T195442Z
LAST-MODIFIED:20260407T195442Z
UID:10007273-1775905200-1776034800@gunstuff.tv
SUMMARY:The Tactical Games ParaBellum Shooting Range Kingman Az Volunteer
DESCRIPTION:Thank you for your interest in volunteering at our event. We welcome all individuals who are willing to contribute their time and energy. No prior experience is necessary\, as we will provide comprehensive training to all volunteers before the event weekend.\nPlease review the tentative schedule\, volunteer roles\, and event credit eligibility details below. Should you have any questions\, please do not hesitate to contact us at info@thetacticalgames.com.\nWe appreciate your support and look forward to your involvement.\nVolunteer Tentative Schedule | Event Weekend\nFriday\nVolunteer Training/Brief 4:30-6:30pm *training will be held at the event venue\nSaturday\nEvent 6am-6pm\nSunday\nEvent 6am-6pm \nVOLUNTEER ROLES-\nSCOREKEEPER\nCounting hits/misses in paper targets\nEntering data into the scoring app\nRESETTER-\nTarget Resetting – hustling down range after the cold range command is given to take down shot paper targets and staple up new targets\nEquipment Resetting – helping reset the stage between heats. Assisting in weight changes or other equipment needs at a particular stage.\nREQUIRED EQUIPMENT:\nEar Protection\nEye Protection\nClosed toes Shoes\nRECOMMENDED ITEMS:\nSunscreen/Bug Spray\nHat\nWeather appropriate clothing (ie: rain/sun/etc)\nPersonal items needed\nAny personal snacks/drinks (we will have water at each stage) \nPlease review eligibility requirements below:\nNo more than two volunteer credits can be use per calendar year.\nVolunteers must be present at the event for a minimum of two days to be eligible for a match credit.\nVolunteers slot redemptions are limited to 20 per match\, and are first come first serve.\nVolunteer Credits do NOT transfer to other competitors/friends/spouses.\nVolunteer Credits do NOT apply to the National Championship event.\nVolunteer Credits are good for one calendar year from the date of volunteering. Example\, If Val volunteered on May 1-2nd\, 2022\, the code is no longer valid for any events after May 1-2\, 2023\, and must be redeemed before that date.
URL:https://gunstuff.tv/event/the-tactical-games-parabellum-shooting-range-kingman-az-volunteer/
LOCATION:10473 N. Randolph Rd\, Kingman AZ\, United States
END:VEVENT
END:VCALENDAR