BEGIN:VCALENDAR
VERSION:2.0
PRODID:-//GunStuff TV - ECPv6.15.20//NONSGML v1.0//EN
CALSCALE:GREGORIAN
METHOD:PUBLISH
X-ORIGINAL-URL:https://gunstuff.tv
X-WR-CALDESC:Events for GunStuff TV
REFRESH-INTERVAL;VALUE=DURATION:PT1H
X-Robots-Tag:noindex
X-PUBLISHED-TTL:PT1H
BEGIN:VTIMEZONE
TZID:UTC
BEGIN:STANDARD
TZOFFSETFROM:+0000
TZOFFSETTO:+0000
TZNAME:UTC
DTSTART:20250101T000000
END:STANDARD
END:VTIMEZONE
BEGIN:VEVENT
DTSTART;TZID=UTC:20260418T150000
DTEND;TZID=UTC:20260418T200000
DTSTAMP:20260424T074049
CREATED:20260414T200230Z
LAST-MODIFIED:20260414T200230Z
UID:10007829-1776524400-1776542400@gunstuff.tv
SUMMARY:Cowtown Range - Accurized AR - April
DESCRIPTION:MATCH SUMMARY:\nOur unique Accurized AR matches are held on the third Saturday of each month. This match is designed to test your long-range skills with multiple target engagement distances and positions. Shots are taken from various “PRS style” positions and props throughout the stages. Each match consists of five stages with targets ranging from 100 to 700 yards. Every stage has a 20 round maximum.  A typical Accurized AR match requires you to make between 40 to 50 hits\, so bring enough ammunition to accommodate.\nMATCH HIGHLIGHTS:\n• 5 Stages\n• Start Time: 8am\, Squads 1-5\n• Equipment Divisions: Open\, Restricted\, Tactical\, Heavy\, Limited.  See rules for equipment requirements.\n• The provided Written Stage Briefings (WSB’s) below are subject to change.  Final WSB’s will be sent out the night before the match.\nMATCH RULES:\n• This match operates under it’s own rule set.\n• All shooters must have read and be familiar with the rules of the match.  Match rules are attached below.\nREGISTRATION & WITHDRAWAL:\n• Match Fee is $30. Cowtown Range members get a $5 discount.\n• No walk-up entries.\n• Pre-registration and pre-payment are required to enter the range\, and squad for the match.\n• One division/entry per competitor.\n• Withdrawal policy: Refunds (minus transaction fee) will be given to those shooters who withdraw on Practiscore by 6pm on Thursday prior to the match. Refunds are not given for no-shows.\n• New Shooters: If this is your first Cowtown Accurized AR match\, please identify yourself to the squad safety officer (SSO) prior to shooting the match for a safety briefing. If you have any questions\, email us or ask an official when you arrive.\n• Wait List: If you end up on the wait list\, please keep a close eye on your email – if a slot opens up\, you will receive an approval email and have just one hour to pay/squad… after that\, we will move to the next person on the list.\nREQUIRED WAIVER\nPlease use the “Bizzflo” link below to complete the Cowtown Range waiver in advance of the match. It’s good for 1 year. If you do not\, you will need to complete the waiver at the range before the match.  This is separate from the Waiver in Practiscore.\nhttps://www.bizzflo.com/booking/index/onboarding/code/kv637cf22b\nAs a reminder\, Cowtown Range requires an ID check for everyone entering the range. Please allow yourself a few extra minutes.\nPlease contact the MD for any other questions:\nJosh Johnston\nAccurizedAR@gmail.com
URL:https://gunstuff.tv/event/cowtown-range-accurized-ar-april/
LOCATION:10402 W. Carefree Hwy\, Peoria AZ\, United States
END:VEVENT
END:VCALENDAR