BEGIN:VCALENDAR
VERSION:2.0
PRODID:-//GunStuff TV - ECPv6.15.20//NONSGML v1.0//EN
CALSCALE:GREGORIAN
METHOD:PUBLISH
X-WR-CALNAME:GunStuff TV
X-ORIGINAL-URL:https://gunstuff.tv
X-WR-CALDESC:Events for GunStuff TV
REFRESH-INTERVAL;VALUE=DURATION:PT1H
X-Robots-Tag:noindex
X-PUBLISHED-TTL:PT1H
BEGIN:VTIMEZONE
TZID:UTC
BEGIN:STANDARD
TZOFFSETFROM:+0000
TZOFFSETTO:+0000
TZNAME:UTC
DTSTART:20250101T000000
END:STANDARD
END:VTIMEZONE
BEGIN:VEVENT
DTSTART;TZID=UTC:20260411T133000
DTEND;TZID=UTC:20260411T170000
DTSTAMP:20260424T104506
CREATED:20260407T195429Z
LAST-MODIFIED:20260407T195429Z
UID:10007155-1775914200-1775926800@gunstuff.tv
SUMMARY:NTSA Rogue Steel 4-11-26
DESCRIPTION:We will shoot 5 non-standard Steel stages\, using Steel Challenge rules. Stages will consist of 20-24 round count steel stages that shooters will run through once. The single run stages will involve some movement to engage all targets.\nThe divisions are listed in Appendix A of the rule book. When you sign up on Practiscore\, the divisions are abbreviated as follows:\nISR – Revolver\, iron sights\nOSR – Revolver\, optics\nPROD – Centerfire pistol\, production\nSS – Centerfire pistol\, single-stack\nCO – Centerfire pistol\, carry optics\nOPN – Centerfire pistol\, open\nLTD – Centerfire pistol\, limited\nRFPI – Rimfire pistol\, iron sights\nRFPO – Rimfire pistol\, optics\nRFRI – Rimfire rifle\, iron sights\nRFRO – Rimfire rifle\, optics\nPCCI – Pistol caliber carbine\, iron sights\nPCCO – Pistol caliber carbine\, optics\nLO – Centerfire pistol\, limited optics\nIf you have any questions about what division you’ll be in\, go ahead and take your best guess then email me and we can edit it once we figure it out.\nThe signup in Practiscore also includes Categories. Many shooters will not fall into any particular category and will leave it blank\, and it does not affect scoring.\nWhen driving into the range\, and leaving the range after the match\, please observe the posted range speed limit (7mph).\nPlease note the range rules regarding guests at the club. Non-members are allowed to shoot the match\, but must stay with the match. Before and after the match\, guests are not allowed to be unaccompanied on club property. If a member will specifically sponsor the guest\, the guest may use the ranges after the match. The sponsoring member must remain with the guest at all times and is responsible for the actions of the guest.\nHats with forward facing brims and glasses must be worn starting at 8am sharp (shotgun fields open at 8am\, pistol ranges are in a known shot fall area).\nWear appropriate shoes for safety and support\, no flip-flops allowed.\nNote that if all squads are full when you register\, or if Practiscore tells you there are no slots left\, we will work you in on Saturday morning. Sign up early to make sure you get the squad you want!\nPlease take a moment to sign up and select a squad. This saves us a lot of time and aggravation on the morning of the match. People who are signed up and squadded before the match will have their spot established on that squad. Anyone that has not done so will be filled in on squads with open spots. If you have a group that wants to shoot together\, but there are not enough open spots on any one squad\, you will likely be split up across squads.\nIf the online signup gives you any trouble\, please email me and I will help you with it\, or can sign you up. If you want me to sign you up\, please give me your name\, email address\, division\, and your squad preference (if any).\nUpon arrival at the match for sign-in you must sign in on the Club Match Roster.\nAll shooters MUST be present for the safety briefing – NO EXCEPTIONS.\nStage building begins at or just after 7am\, any help there is greatly appreciated.\nSign-up Ends:  8:30\nSafety Briefing: 8:30\nStart Time:   Immediately following the safety briefing.\nThe match will consist of 5 stages\, and will require at least 125 rounds of ammo. You should have enough magazines for your pistol or PCC to shoot a minimum of 25 rounds per stage (likely more unless every shot is a hit).\nWe should to be through by 11:30am or Noon.\nJust a reminder to park such that you leave Pistol Bays 2 & 3 (West most bays) open for casual shooters.\nAs always I appreciate the help with scoring\, painting targets and picking up brass as well as those who come out early to assist with setup.\nCome join us and have a safe and fun time.\nSee you Saturday.\nThank You\,\nRich Naughtin\nNTSA Pistol
URL:https://gunstuff.tv/event/ntsa-rogue-steel-4-11-26/
LOCATION:10400 Rector Road\, Sanger Texas\, United States
END:VEVENT
END:VCALENDAR