BEGIN:VCALENDAR
VERSION:2.0
PRODID:-//GunStuff TV - ECPv6.15.20//NONSGML v1.0//EN
CALSCALE:GREGORIAN
METHOD:PUBLISH
X-ORIGINAL-URL:https://gunstuff.tv
X-WR-CALDESC:Events for GunStuff TV
REFRESH-INTERVAL;VALUE=DURATION:PT1H
X-Robots-Tag:noindex
X-PUBLISHED-TTL:PT1H
BEGIN:VTIMEZONE
TZID:UTC
BEGIN:STANDARD
TZOFFSETFROM:+0000
TZOFFSETTO:+0000
TZNAME:UTC
DTSTART:20250101T000000
END:STANDARD
END:VTIMEZONE
BEGIN:VEVENT
DTSTART;TZID=UTC:20260411T140000
DTEND;TZID=UTC:20260411T190000
DTSTAMP:20260424T104536
CREATED:20260407T195423Z
LAST-MODIFIED:20260407T195423Z
UID:10007099-1775916000-1775934000@gunstuff.tv
SUMMARY:WSRC "STEEL CHALLENGE": 04-11-2026
DESCRIPTION:STEEL CHALLENGE\, 6-Stages\, 5-Targets\, 5-Strings Each.\nYou may choose to shoot twice for $10\nMeet here- 38°10’57.4″N 89°45’48.2″W\nSign in starts at 8:00\nCompetitors Meeting at 9:00.  Walk On’s Welcome!
URL:https://gunstuff.tv/event/wsrc-steel-challenge-04-11-2026/
LOCATION:1 Pistol Rd\, Sparta Illinois\, United States
END:VEVENT
END:VCALENDAR