BEGIN:VCALENDAR
VERSION:2.0
PRODID:-//GunStuff TV - ECPv6.15.20//NONSGML v1.0//EN
CALSCALE:GREGORIAN
METHOD:PUBLISH
X-WR-CALNAME:GunStuff TV
X-ORIGINAL-URL:https://gunstuff.tv
X-WR-CALDESC:Events for GunStuff TV
REFRESH-INTERVAL;VALUE=DURATION:PT1H
X-Robots-Tag:noindex
X-PUBLISHED-TTL:PT1H
BEGIN:VTIMEZONE
TZID:UTC
BEGIN:STANDARD
TZOFFSETFROM:+0000
TZOFFSETTO:+0000
TZNAME:UTC
DTSTART:20250101T000000
END:STANDARD
END:VTIMEZONE
BEGIN:VEVENT
DTSTART;TZID=UTC:20260422T060000
DTEND;TZID=UTC:20260424T060000
DTSTAMP:20260424T084006
CREATED:20260111T213127Z
LAST-MODIFIED:20260421T084628Z
UID:10004407-1776837600-1777010400@gunstuff.tv
SUMMARY:NASCC Steel Conference
DESCRIPTION:
URL:https://gunstuff.tv/event/nascc-steel-conference/
LOCATION:Georgia World Congress Center\, Atlanta\, GA\, United States
ORGANIZER;CN="Rocky Mountain Steel Construction Association":MAILTO:info@rmsca.org
GEO:33.844371;-84.47405
END:VEVENT
BEGIN:VEVENT
DTSTART;TZID=UTC:20260415T060000
DTEND;TZID=UTC:20260415T060000
DTSTAMP:20260424T084006
CREATED:20260118T213127Z
LAST-MODIFIED:20260414T084801Z
UID:10004600-1776232800-1776232800@gunstuff.tv
SUMMARY:2026 RMSCA Membership Dues Renewal
DESCRIPTION:
URL:https://gunstuff.tv/event/2026-rmsca-membership-dues-renewal/
ORGANIZER;CN="Rocky Mountain Steel Construction Association":MAILTO:info@rmsca.org
END:VEVENT
BEGIN:VEVENT
DTSTART;TZID=UTC:20260409T230000
DTEND;TZID=UTC:20260410T010000
DTSTAMP:20260424T084006
CREATED:20260125T213128Z
LAST-MODIFIED:20260405T221646Z
UID:10004751-1775775600-1775782800@gunstuff.tv
SUMMARY:RMSCA Networking Event - Denver Stick and Feather\, Denver's premier golf lounge & bar
DESCRIPTION:
URL:https://gunstuff.tv/event/rmsca-networking-event-denver/
LOCATION:Stick and Feather\, 3851 Steele St\, Denver\, CO\, United States
ORGANIZER;CN="Rocky Mountain Steel Construction Association":MAILTO:info@rmsca.org
GEO:39.770179;-104.949816
X-APPLE-STRUCTURED-LOCATION;VALUE=URI;X-ADDRESS=Stick and Feather 3851 Steele St Denver CO United States;X-APPLE-RADIUS=500;X-TITLE=3851 Steele St:geo:-104.949816,39.770179
END:VEVENT
BEGIN:VEVENT
DTSTART;TZID=UTC:20260409T223000
DTEND;TZID=UTC:20260410T003000
DTSTAMP:20260424T084006
CREATED:20260125T213128Z
LAST-MODIFIED:20260125T213128Z
UID:10004752-1775773800-1775781000@gunstuff.tv
SUMMARY:RMSCA Networking Event - Denver
DESCRIPTION:
URL:https://gunstuff.tv/event/rmsca-networking-event-denver-2/
LOCATION:TBD
ORGANIZER;CN="Rocky Mountain Steel Construction Association":MAILTO:info@rmsca.org
END:VEVENT
BEGIN:VEVENT
DTSTART;TZID=UTC:20260409T203000
DTEND;TZID=UTC:20260409T223000
DTSTAMP:20260424T084006
CREATED:20260111T213126Z
LAST-MODIFIED:20260405T221646Z
UID:10004406-1775766600-1775773800@gunstuff.tv
SUMMARY:RMSCA Board of Directors Meeting
DESCRIPTION:
URL:https://gunstuff.tv/event/rmsca-board-of-directors-meeting-2/
LOCATION:Conference Room\, 3881 Steele St\, Denver\, CO\, United States
ORGANIZER;CN="Rocky Mountain Steel Construction Association":MAILTO:info@rmsca.org
GEO:39.77075;-104.949814
X-APPLE-STRUCTURED-LOCATION;VALUE=URI;X-ADDRESS=Conference Room 3881 Steele St Denver CO United States;X-APPLE-RADIUS=500;X-TITLE=3881 Steele St:geo:-104.949814,39.77075
END:VEVENT
BEGIN:VEVENT
DTSTART;TZID=UTC:20260303T233000
DTEND;TZID=UTC:20260304T030000
DTSTAMP:20260424T084006
CREATED:20260111T213126Z
LAST-MODIFIED:20260301T214627Z
UID:10004405-1772580600-1772593200@gunstuff.tv
SUMMARY:CSC Poker Fundraising Tournament
DESCRIPTION:
URL:https://gunstuff.tv/event/csc-poker-fundraising-tournament/
LOCATION:Satire Brewing Company\, 13101 Grant Cir N\, Denver\, CO\, United States
ORGANIZER;CN="Rocky Mountain Steel Construction Association":MAILTO:info@rmsca.org
GEO:39.935014;-104.985971
X-APPLE-STRUCTURED-LOCATION;VALUE=URI;X-ADDRESS=Satire Brewing Company 13101 Grant Cir N Denver CO United States;X-APPLE-RADIUS=500;X-TITLE=13101 Grant Cir N:geo:-104.985971,39.935014
END:VEVENT
BEGIN:VEVENT
DTSTART;TZID=UTC:20260219T233000
DTEND;TZID=UTC:20260220T020000
DTSTAMP:20260424T084006
CREATED:20260104T213126Z
LAST-MODIFIED:20260215T214633Z
UID:10003717-1771543800-1771552800@gunstuff.tv
SUMMARY:RMSCA Member Networking Event 2026 Economic Forecast & Tariff Talk and Colorado Legislative Update
DESCRIPTION:
URL:https://gunstuff.tv/event/rmsca-member-meeting-2026-economic-forecast/
LOCATION:AGC Colorado | Training Room\, 686 Mariposa St\, Denver\, CO\, United States
ORGANIZER;CN="Rocky Mountain Steel Construction Association":MAILTO:info@rmsca.org
GEO:39.727137;-105.002776
X-APPLE-STRUCTURED-LOCATION;VALUE=URI;X-ADDRESS=AGC Colorado | Training Room 686 Mariposa St Denver CO United States;X-APPLE-RADIUS=500;X-TITLE=686 Mariposa St:geo:-105.002776,39.727137
END:VEVENT
END:VCALENDAR