BEGIN:VCALENDAR
VERSION:2.0
PRODID:-//GunStuff TV - ECPv6.15.20//NONSGML v1.0//EN
CALSCALE:GREGORIAN
METHOD:PUBLISH
X-ORIGINAL-URL:https://gunstuff.tv
X-WR-CALDESC:Events for GunStuff TV
REFRESH-INTERVAL;VALUE=DURATION:PT1H
X-Robots-Tag:noindex
X-PUBLISHED-TTL:PT1H
BEGIN:VTIMEZONE
TZID:America/Chicago
BEGIN:DAYLIGHT
TZOFFSETFROM:-0600
TZOFFSETTO:-0500
TZNAME:CDT
DTSTART:20250309T080000
END:DAYLIGHT
BEGIN:STANDARD
TZOFFSETFROM:-0500
TZOFFSETTO:-0600
TZNAME:CST
DTSTART:20251102T070000
END:STANDARD
BEGIN:DAYLIGHT
TZOFFSETFROM:-0600
TZOFFSETTO:-0500
TZNAME:CDT
DTSTART:20260308T080000
END:DAYLIGHT
BEGIN:STANDARD
TZOFFSETFROM:-0500
TZOFFSETTO:-0600
TZNAME:CST
DTSTART:20261101T070000
END:STANDARD
BEGIN:DAYLIGHT
TZOFFSETFROM:-0600
TZOFFSETTO:-0500
TZNAME:CDT
DTSTART:20270314T080000
END:DAYLIGHT
BEGIN:STANDARD
TZOFFSETFROM:-0500
TZOFFSETTO:-0600
TZNAME:CST
DTSTART:20271107T070000
END:STANDARD
END:VTIMEZONE
BEGIN:VEVENT
DTSTART;TZID=America/Chicago:20260429T080000
DTEND;TZID=America/Chicago:20260429T130000
DTSTAMP:20260419T103919
CREATED:20260331T021750Z
LAST-MODIFIED:20260414T024728Z
UID:10006684-1777449600-1777467600@gunstuff.tv
SUMMARY:Fellowship of Christian Athletes
DESCRIPTION:Join us on April 29th for a fun day of sporting clays as we invest in local student-athletes and coaches through the Fellowship of Christian Athletes! \n  \nSchedule: \n\n8:00 AM – Registration and Breakfast\n9:00 AM – Start time\nLunch at conclusion of shooting\n\n  \nRegister Here
URL:https://gunstuff.tv/event/fellowship-of-christian-athletes/
LOCATION:Clay Sports Ranch\, 8270 Aledo Road\, Fort Worth\, TX\, 76126\, United States
CATEGORIES:Clay Sports Ranch Events
ATTACH;FMTTYPE=image/jpeg:https://gunstuff.tv/wp-content/uploads/2026/03/FCA-2026-CLAY-SHOOT-FLYER-qwtYTt.jpg
END:VEVENT
END:VCALENDAR