BEGIN:VCALENDAR
VERSION:2.0
PRODID:-//GunStuff TV - ECPv6.15.20//NONSGML v1.0//EN
CALSCALE:GREGORIAN
METHOD:PUBLISH
X-WR-CALNAME:GunStuff TV
X-ORIGINAL-URL:https://gunstuff.tv
X-WR-CALDESC:Events for GunStuff TV
REFRESH-INTERVAL;VALUE=DURATION:PT1H
X-Robots-Tag:noindex
X-PUBLISHED-TTL:PT1H
BEGIN:VTIMEZONE
TZID:America/Chicago
BEGIN:DAYLIGHT
TZOFFSETFROM:-0600
TZOFFSETTO:-0500
TZNAME:CDT
DTSTART:20250309T080000
END:DAYLIGHT
BEGIN:STANDARD
TZOFFSETFROM:-0500
TZOFFSETTO:-0600
TZNAME:CST
DTSTART:20251102T070000
END:STANDARD
BEGIN:DAYLIGHT
TZOFFSETFROM:-0600
TZOFFSETTO:-0500
TZNAME:CDT
DTSTART:20260308T080000
END:DAYLIGHT
BEGIN:STANDARD
TZOFFSETFROM:-0500
TZOFFSETTO:-0600
TZNAME:CST
DTSTART:20261101T070000
END:STANDARD
BEGIN:DAYLIGHT
TZOFFSETFROM:-0600
TZOFFSETTO:-0500
TZNAME:CDT
DTSTART:20270314T080000
END:DAYLIGHT
BEGIN:STANDARD
TZOFFSETFROM:-0500
TZOFFSETTO:-0600
TZNAME:CST
DTSTART:20271107T070000
END:STANDARD
END:VTIMEZONE
BEGIN:VEVENT
DTSTART;TZID=America/Chicago:20260306T080000
DTEND;TZID=America/Chicago:20260306T130000
DTSTAMP:20260421T041015
CREATED:20260303T021709Z
LAST-MODIFIED:20260303T021713Z
UID:10006009-1772784000-1772802000@gunstuff.tv
SUMMARY:CASA Pull for Kids Clay Shoot
DESCRIPTION:Calling all sharp shooters! You can change a child’s life and hit your target at the 9th Annual CASA Pull For Kids Clay Shoot!\nCASA of Tarrant County is celebrating 40 years of advocacy! Over the past 40 years\, CASA has served thousands of abused and neglected children in the community. Help us continue this legacy by supporting our Pull For Kids Clay Shoot this year.\n\nJOIN US: March 6th\, 2026  at Defender Outdoors Clay Sports Ranch\n\nREGISTER\nEVENT FEATURES:\n\nGun board raffles\nComplimentary lunch\, golf carts and giveaways\nGrand prizes for top shooters\nSpecial First Responders Division and Awards\n\nSchedule:\nFriday\, March 6th\, 2026 \n7:30AM: Registration begins\, Raffle & gun board purchases open \n8:45AM: Safety briefing \n9AM: Shoot begins \n11:30AM: Lunch & whiskey pull available \n12:00PM: Awards & announcements \n2:00PM: Event ends \nCosts and Sponsorships:\nTeam of 4- $1\,000 \nIndividual Shooter- $350 \nPlenty of sponsorship opportunities available. Go to https://www.casaclayshoot.org/register-1 to learn more! \nAbout CASA of Tarrant County:\nCASA (Court-Appointed Special Advocates) of Tarrant County trains and supports volunteers who help children in foster care find safe\, permanent homes while speaking up for their best interests. CASA had a life-saving impact in 2020\, serving 1\,106 children in foster care\, but the need is still great! \n 
URL:https://gunstuff.tv/event/casa-pull-for-kids-clay-shoot-2/
LOCATION:Clay Sports Ranch\, 8270 Aledo Road\, Fort Worth\, TX\, 76126\, United States
CATEGORIES:Clay Sports Ranch Events
ATTACH;FMTTYPE=image/png:https://gunstuff.tv/wp-content/uploads/2026/03/Screenshot-2026-01-19-at-2.40.24-PM-Oia1jQ-q5fpyl.png
ORGANIZER;CN="CASA of Tarrant County":MAILTO:Victoria.Bittmenn@casatc.org
END:VEVENT
BEGIN:VEVENT
DTSTART;TZID=America/Chicago:20260306T080000
DTEND;TZID=America/Chicago:20260306T130000
DTSTAMP:20260421T041015
CREATED:20260210T021742Z
LAST-MODIFIED:20260224T021637Z
UID:10005140-1772784000-1772802000@gunstuff.tv
SUMMARY:CASA Pull for Kids Clay Shoot
DESCRIPTION:Calling all sharp shooters! You can change a child’s life and hit your target at the 9th Annual CASA Pull For Kids Clay Shoot!\nCASA of Tarrant County is celebrating 40 years of advocacy! Over the past 40 years\, CASA has served thousands of abused and neglected children in the community. Help us continue this legacy by supporting our Pull For Kids Clay Shoot this year.\n\nJOIN US: March 6th\, 2026  at Defender Outdoors Clay Sports Ranch\n\nREGISTER\nEVENT FEATURES:\n\nGun board raffles\nComplimentary lunch\, golf carts and giveaways\nGrand prizes for top shooters\nSpecial First Responders Division and Awards\n\nSchedule:\nFriday\, March 6th\, 2026 \n7:30AM: Registration begins\, Raffle & gun board purchases open \n8:45AM: Safety briefing \n9AM: Shoot begins \n11:30AM: Lunch & whiskey pull available \n12:00PM: Awards & announcements \n2:00PM: Event ends \nCosts and Sponsorships:\nTeam of 4- $1\,000 \nIndividual Shooter- $350 \nPlenty of sponsorship opportunities available. Go to https://www.casaclayshoot.org/register-1 to learn more! \nAbout CASA of Tarrant County:\nCASA (Court-Appointed Special Advocates) of Tarrant County trains and supports volunteers who help children in foster care find safe\, permanent homes while speaking up for their best interests. CASA had a life-saving impact in 2020\, serving 1\,106 children in foster care\, but the need is still great! \n 
URL:https://gunstuff.tv/event/casa-pull-for-kids-clay-shoot/
LOCATION:Clay Sports Ranch\, 8270 Aledo Road\, Fort Worth\, TX\, 76126\, United States
CATEGORIES:Clay Sports Ranch Events
ATTACH;FMTTYPE=image/png:https://gunstuff.tv/wp-content/uploads/2026/02/Screenshot-2026-01-19-at-2.40.24-PM-vWxJ69.png
ORGANIZER;CN="CASA of Tarrant County":MAILTO:Victoria.Bittmenn@casatc.org
END:VEVENT
END:VCALENDAR