BEGIN:VCALENDAR
VERSION:2.0
PRODID:-//GunStuff TV - ECPv6.15.20//NONSGML v1.0//EN
CALSCALE:GREGORIAN
METHOD:PUBLISH
X-ORIGINAL-URL:https://gunstuff.tv
X-WR-CALDESC:Events for GunStuff TV
REFRESH-INTERVAL;VALUE=DURATION:PT1H
X-Robots-Tag:noindex
X-PUBLISHED-TTL:PT1H
BEGIN:VTIMEZONE
TZID:America/Chicago
BEGIN:DAYLIGHT
TZOFFSETFROM:-0600
TZOFFSETTO:-0500
TZNAME:CDT
DTSTART:20250309T080000
END:DAYLIGHT
BEGIN:STANDARD
TZOFFSETFROM:-0500
TZOFFSETTO:-0600
TZNAME:CST
DTSTART:20251102T070000
END:STANDARD
BEGIN:DAYLIGHT
TZOFFSETFROM:-0600
TZOFFSETTO:-0500
TZNAME:CDT
DTSTART:20260308T080000
END:DAYLIGHT
BEGIN:STANDARD
TZOFFSETFROM:-0500
TZOFFSETTO:-0600
TZNAME:CST
DTSTART:20261101T070000
END:STANDARD
BEGIN:DAYLIGHT
TZOFFSETFROM:-0600
TZOFFSETTO:-0500
TZNAME:CDT
DTSTART:20270314T080000
END:DAYLIGHT
BEGIN:STANDARD
TZOFFSETFROM:-0500
TZOFFSETTO:-0600
TZNAME:CST
DTSTART:20271107T070000
END:STANDARD
END:VTIMEZONE
BEGIN:VEVENT
DTSTART;TZID=America/Chicago:20260516T080000
DTEND;TZID=America/Chicago:20260516T140000
DTSTAMP:20260420T232322
CREATED:20260421T004629Z
LAST-MODIFIED:20260421T004629Z
UID:10008080-1778918400-1778940000@gunstuff.tv
SUMMARY:2-Gun Match
DESCRIPTION:@ 			\n			\n							 \n\nThe match will consist of 4-6 stages. Each stage may be rifle only\, pistol only or a combination of both. \nWhile it is set up as a competition\, it is not an overly competitive environment for new shooters. Just come and have fun.  Distances will vary from arm’s length to 150 yards.  Combined round count will not exceed 125 rounds if shot clean.  Stages are set up so they can be completed with only iron sights. \nStages are designed to challenge and increase the shooter’s weapon handling skills through physical exertion as well as shooting from unnatural positions. \nThe use of Sig Sauer P320 and M18 pistols are expressly forbidden. \nhttps://greenrivergunclub.com/2-gun/ \n \n\n				Match Fee\n	\n\n\nCaleb Costellow & Jordyn Trimble\n \n \n\n\n\n\n\n\n						\n							Add to calendar						 \n\n\n\n									\n										Google Calendar									\n								\n\n									\n										iCalendar									\n								\n\n									\n										Outlook 365									\n								\n\n									\n										Outlook Live
URL:https://gunstuff.tv/event/2-gun-match-2/
END:VEVENT
END:VCALENDAR