BEGIN:VCALENDAR
VERSION:2.0
PRODID:-//GunStuff TV - ECPv6.15.20//NONSGML v1.0//EN
CALSCALE:GREGORIAN
METHOD:PUBLISH
X-ORIGINAL-URL:https://gunstuff.tv
X-WR-CALDESC:Events for GunStuff TV
REFRESH-INTERVAL;VALUE=DURATION:PT1H
X-Robots-Tag:noindex
X-PUBLISHED-TTL:PT1H
BEGIN:VTIMEZONE
TZID:America/Los_Angeles
BEGIN:DAYLIGHT
TZOFFSETFROM:-0800
TZOFFSETTO:-0700
TZNAME:PDT
DTSTART:20250309T100000
END:DAYLIGHT
BEGIN:STANDARD
TZOFFSETFROM:-0700
TZOFFSETTO:-0800
TZNAME:PST
DTSTART:20251102T090000
END:STANDARD
BEGIN:DAYLIGHT
TZOFFSETFROM:-0800
TZOFFSETTO:-0700
TZNAME:PDT
DTSTART:20260308T100000
END:DAYLIGHT
BEGIN:STANDARD
TZOFFSETFROM:-0700
TZOFFSETTO:-0800
TZNAME:PST
DTSTART:20261101T090000
END:STANDARD
BEGIN:DAYLIGHT
TZOFFSETFROM:-0800
TZOFFSETTO:-0700
TZNAME:PDT
DTSTART:20270314T100000
END:DAYLIGHT
BEGIN:STANDARD
TZOFFSETFROM:-0700
TZOFFSETTO:-0800
TZNAME:PST
DTSTART:20271107T090000
END:STANDARD
END:VTIMEZONE
BEGIN:VEVENT
DTSTART;TZID=America/Los_Angeles:20260517T080000
DTEND;TZID=America/Los_Angeles:20260517T150000
DTSTAMP:20260422T125704
CREATED:20260417T194751Z
LAST-MODIFIED:20260417T194805Z
UID:10008030-1779004800-1779030000@gunstuff.tv
SUMMARY:DAWG’s ICORE Match
DESCRIPTION:Diablo Action Pistol / Diablo Action Wheel Gunners (DAWGs) will have a 5-stage ICORE match with at least one stage being a regulation Postal Match stage.  Classified semi-auto shooters & DAP shooters who recently completed the Action Orientation class are welcome! \nYou must complete the USI liability waiver online before match day: this involves watching two short 3-min videos and taking an online safety test. The waiver is located at https://unitedsportsmen.com/waiver/ \nPlease arrive early so we can start on time. On-site Registration opens at 8:00 AM and closes at 8:30 AM.  Shooters’ meeting at 8:55 AM. First shots at 9:00 AM. \n\nPre-Register on Practiscore:  https://practiscore.com/clubs/diablo-action-pistol
URL:https://gunstuff.tv/event/dawgs-icore-match-4/
LOCATION:Action Pistol Range\, 4700 Evora Road\, Concord\, CA\, 94520
CATEGORIES:Diablo Action Pistol
ORGANIZER;CN="Blade Benson":MAILTO:matchsupport@diabloactionpistol.com
GEO:42.705297;-83.4014
X-APPLE-STRUCTURED-LOCATION;VALUE=URI;X-ADDRESS=Action Pistol Range 4700 Evora Road Concord CA 94520;X-APPLE-RADIUS=500;X-TITLE=4700 Evora Road:geo:-83.4014,42.705297
END:VEVENT
END:VCALENDAR