BEGIN:VCALENDAR
VERSION:2.0
PRODID:-//GunStuff TV - ECPv6.15.20//NONSGML v1.0//EN
CALSCALE:GREGORIAN
METHOD:PUBLISH
X-ORIGINAL-URL:https://gunstuff.tv
X-WR-CALDESC:Events for GunStuff TV
REFRESH-INTERVAL;VALUE=DURATION:PT1H
X-Robots-Tag:noindex
X-PUBLISHED-TTL:PT1H
BEGIN:VTIMEZONE
TZID:America/Los_Angeles
BEGIN:DAYLIGHT
TZOFFSETFROM:-0800
TZOFFSETTO:-0700
TZNAME:PDT
DTSTART:20250309T100000
END:DAYLIGHT
BEGIN:STANDARD
TZOFFSETFROM:-0700
TZOFFSETTO:-0800
TZNAME:PST
DTSTART:20251102T090000
END:STANDARD
BEGIN:DAYLIGHT
TZOFFSETFROM:-0800
TZOFFSETTO:-0700
TZNAME:PDT
DTSTART:20260308T100000
END:DAYLIGHT
BEGIN:STANDARD
TZOFFSETFROM:-0700
TZOFFSETTO:-0800
TZNAME:PST
DTSTART:20261101T090000
END:STANDARD
BEGIN:DAYLIGHT
TZOFFSETFROM:-0800
TZOFFSETTO:-0700
TZNAME:PDT
DTSTART:20270314T100000
END:DAYLIGHT
BEGIN:STANDARD
TZOFFSETFROM:-0700
TZOFFSETTO:-0800
TZNAME:PST
DTSTART:20271107T090000
END:STANDARD
END:VTIMEZONE
BEGIN:VEVENT
DTSTART;TZID=America/Los_Angeles:20260423T140000
DTEND;TZID=America/Los_Angeles:20260423T170000
DTSTAMP:20260422T113603
CREATED:20260327T193146Z
LAST-MODIFIED:20260417T194804Z
UID:10006563-1776952800-1776963600@gunstuff.tv
SUMMARY:Action Pistol – 2nd/4th Thu Practice
DESCRIPTION:Range fee: \n\n$10  ($5 if you are a USI Access Card/VIP Card holder)\nBring exact change.\n\nPlease note: \n\nThe number of practice bays available may be impacted by competition stage setup needs.
URL:https://gunstuff.tv/event/action-pistol-2nd-4th-thu-practice-13/
LOCATION:Action Pistol Range\, 4700 Evora Road\, Concord\, CA\, 94520
CATEGORIES:Diablo Action Pistol
ATTACH;FMTTYPE=image/png:https://gunstuff.tv/wp-content/uploads/2025/10/White-bg_transparent-daplogo-e1547014989540-HGFVH2.png
ORGANIZER;CN="Blade Benson":MAILTO:matchsupport@diabloactionpistol.com
GEO:42.705297;-83.4014
X-APPLE-STRUCTURED-LOCATION;VALUE=URI;X-ADDRESS=Action Pistol Range 4700 Evora Road Concord CA 94520;X-APPLE-RADIUS=500;X-TITLE=4700 Evora Road:geo:-83.4014,42.705297
END:VEVENT
BEGIN:VEVENT
DTSTART;TZID=America/Los_Angeles:20260424T090000
DTEND;TZID=America/Los_Angeles:20260424T170000
DTSTAMP:20260422T113603
CREATED:20260327T193146Z
LAST-MODIFIED:20260417T194804Z
UID:10006564-1777021200-1777050000@gunstuff.tv
SUMMARY:Action Pistol – RO Practice
DESCRIPTION:This practice is for Diablo Range Officers only.  Do not show up if you are not a Diablo Range Officer.
URL:https://gunstuff.tv/event/action-pistol-ro-practice-29/
LOCATION:Action Pistol Range\, 4700 Evora Road\, Concord\, CA\, 94520
CATEGORIES:Diablo Action Pistol
ATTACH;FMTTYPE=image/jpeg:https://gunstuff.tv/wp-content/uploads/2025/10/range_officer-e1638567606101-fR8pOy.jpg
ORGANIZER;CN="Blade Benson":MAILTO:matchsupport@diabloactionpistol.com
GEO:42.705297;-83.4014
X-APPLE-STRUCTURED-LOCATION;VALUE=URI;X-ADDRESS=Action Pistol Range 4700 Evora Road Concord CA 94520;X-APPLE-RADIUS=500;X-TITLE=4700 Evora Road:geo:-83.4014,42.705297
END:VEVENT
BEGIN:VEVENT
DTSTART;TZID=America/Los_Angeles:20260425T090000
DTEND;TZID=America/Los_Angeles:20260425T120000
DTSTAMP:20260422T113603
CREATED:20260327T193146Z
LAST-MODIFIED:20260417T194804Z
UID:10006565-1777107600-1777118400@gunstuff.tv
SUMMARY:Action Pistol – Sat Practice
DESCRIPTION:Range fee: \n\n$10  ($5 if you are a USI VIP Card holder)\nBring exact change.\n\nPlease note: \n\nThere will be no Saturday practice on the 5th Saturday of a month\, when those occur.\nThe number of practice bays available may be impacted by competition stage setup needs.
URL:https://gunstuff.tv/event/action-pistol-sat-practice-27/
LOCATION:Action Pistol Range\, 4700 Evora Road\, Concord\, CA\, 94520
CATEGORIES:Diablo Action Pistol
ATTACH;FMTTYPE=image/png:https://gunstuff.tv/wp-content/uploads/2025/10/White-bg_transparent-daplogo-e1547014989540-HGFVH2.png
ORGANIZER;CN="Blade Benson":MAILTO:matchsupport@diabloactionpistol.com
GEO:42.705297;-83.4014
X-APPLE-STRUCTURED-LOCATION;VALUE=URI;X-ADDRESS=Action Pistol Range 4700 Evora Road Concord CA 94520;X-APPLE-RADIUS=500;X-TITLE=4700 Evora Road:geo:-83.4014,42.705297
END:VEVENT
BEGIN:VEVENT
DTSTART;TZID=America/Los_Angeles:20260426T080000
DTEND;TZID=America/Los_Angeles:20260426T150000
DTSTAMP:20260422T113603
CREATED:20260327T193147Z
LAST-MODIFIED:20260417T194805Z
UID:10006567-1777190400-1777215600@gunstuff.tv
SUMMARY:IDPA Match – ONE TIME SWITCH with USPSA
DESCRIPTION:Sign up details on Practiscore.Com
URL:https://gunstuff.tv/event/idpa-match-one-time-switch-with-uspsa/
LOCATION:Action Pistol Range\, 4700 Evora Road\, Concord\, CA\, 94520
CATEGORIES:Diablo Action Pistol
ORGANIZER;CN="Blade Benson":MAILTO:matchsupport@diabloactionpistol.com
GEO:42.705297;-83.4014
X-APPLE-STRUCTURED-LOCATION;VALUE=URI;X-ADDRESS=Action Pistol Range 4700 Evora Road Concord CA 94520;X-APPLE-RADIUS=500;X-TITLE=4700 Evora Road:geo:-83.4014,42.705297
END:VEVENT
BEGIN:VEVENT
DTSTART;TZID=America/Los_Angeles:20260501T090000
DTEND;TZID=America/Los_Angeles:20260501T170000
DTSTAMP:20260422T113603
CREATED:20260403T193218Z
LAST-MODIFIED:20260417T194805Z
UID:10006739-1777626000-1777654800@gunstuff.tv
SUMMARY:Action Pistol – RO Practice
DESCRIPTION:This practice is for Diablo Range Officers only.  Do not show up if you are not a Diablo Range Officer.
URL:https://gunstuff.tv/event/action-pistol-ro-practice-30/
LOCATION:Action Pistol Range\, 4700 Evora Road\, Concord\, CA\, 94520
CATEGORIES:Diablo Action Pistol
ATTACH;FMTTYPE=image/jpeg:https://gunstuff.tv/wp-content/uploads/2025/10/range_officer-e1638567606101-fR8pOy.jpg
ORGANIZER;CN="Blade Benson":MAILTO:matchsupport@diabloactionpistol.com
GEO:42.705297;-83.4014
X-APPLE-STRUCTURED-LOCATION;VALUE=URI;X-ADDRESS=Action Pistol Range 4700 Evora Road Concord CA 94520;X-APPLE-RADIUS=500;X-TITLE=4700 Evora Road:geo:-83.4014,42.705297
END:VEVENT
BEGIN:VEVENT
DTSTART;TZID=America/Los_Angeles:20260502T090000
DTEND;TZID=America/Los_Angeles:20260502T120000
DTSTAMP:20260422T113603
CREATED:20260403T193218Z
LAST-MODIFIED:20260417T194805Z
UID:10006740-1777712400-1777723200@gunstuff.tv
SUMMARY:Action Pistol – Sat Practice
DESCRIPTION:Range fee: \n\n$10  ($5 if you are a USI VIP Card holder)\nBring exact change.\n\nPlease note: \n\nThere will be no Saturday practice on the 5th Saturday of a month\, when those occur.\nThe number of practice bays available may be impacted by competition stage setup needs.
URL:https://gunstuff.tv/event/action-pistol-sat-practice-28/
LOCATION:Action Pistol Range\, 4700 Evora Road\, Concord\, CA\, 94520
CATEGORIES:Diablo Action Pistol
ATTACH;FMTTYPE=image/png:https://gunstuff.tv/wp-content/uploads/2025/10/White-bg_transparent-daplogo-e1547014989540-HGFVH2.png
ORGANIZER;CN="Blade Benson":MAILTO:matchsupport@diabloactionpistol.com
GEO:42.705297;-83.4014
X-APPLE-STRUCTURED-LOCATION;VALUE=URI;X-ADDRESS=Action Pistol Range 4700 Evora Road Concord CA 94520;X-APPLE-RADIUS=500;X-TITLE=4700 Evora Road:geo:-83.4014,42.705297
END:VEVENT
BEGIN:VEVENT
DTSTART;TZID=America/Los_Angeles:20260508T090000
DTEND;TZID=America/Los_Angeles:20260508T170000
DTSTAMP:20260422T113603
CREATED:20260410T194640Z
LAST-MODIFIED:20260417T194805Z
UID:10007431-1778230800-1778259600@gunstuff.tv
SUMMARY:Action Pistol – RO Practice
DESCRIPTION:This practice is for Diablo Range Officers only.  Do not show up if you are not a Diablo Range Officer.
URL:https://gunstuff.tv/event/action-pistol-ro-practice-31/
LOCATION:Action Pistol Range\, 4700 Evora Road\, Concord\, CA\, 94520
CATEGORIES:Diablo Action Pistol
ATTACH;FMTTYPE=image/jpeg:https://gunstuff.tv/wp-content/uploads/2025/10/range_officer-e1638567606101-fR8pOy.jpg
ORGANIZER;CN="Blade Benson":MAILTO:matchsupport@diabloactionpistol.com
GEO:42.705297;-83.4014
X-APPLE-STRUCTURED-LOCATION;VALUE=URI;X-ADDRESS=Action Pistol Range 4700 Evora Road Concord CA 94520;X-APPLE-RADIUS=500;X-TITLE=4700 Evora Road:geo:-83.4014,42.705297
END:VEVENT
BEGIN:VEVENT
DTSTART;TZID=America/Los_Angeles:20260509T090000
DTEND;TZID=America/Los_Angeles:20260509T120000
DTSTAMP:20260422T113603
CREATED:20260410T194640Z
LAST-MODIFIED:20260417T194805Z
UID:10007432-1778317200-1778328000@gunstuff.tv
SUMMARY:Action Pistol – Sat Practice
DESCRIPTION:Range fee: \n\n$10  ($5 if you are a USI VIP Card holder)\nBring exact change.\n\nPlease note: \n\nThere will be no Saturday practice on the 5th Saturday of a month\, when those occur.\nThe number of practice bays available may be impacted by competition stage setup needs.
URL:https://gunstuff.tv/event/action-pistol-sat-practice-29/
LOCATION:Action Pistol Range\, 4700 Evora Road\, Concord\, CA\, 94520
CATEGORIES:Diablo Action Pistol
ATTACH;FMTTYPE=image/png:https://gunstuff.tv/wp-content/uploads/2025/10/White-bg_transparent-daplogo-e1547014989540-HGFVH2.png
ORGANIZER;CN="Blade Benson":MAILTO:matchsupport@diabloactionpistol.com
GEO:42.705297;-83.4014
X-APPLE-STRUCTURED-LOCATION;VALUE=URI;X-ADDRESS=Action Pistol Range 4700 Evora Road Concord CA 94520;X-APPLE-RADIUS=500;X-TITLE=4700 Evora Road:geo:-83.4014,42.705297
END:VEVENT
BEGIN:VEVENT
DTSTART;TZID=America/Los_Angeles:20260510T080000
DTEND;TZID=America/Los_Angeles:20260510T150000
DTSTAMP:20260422T113603
CREATED:20260410T194640Z
LAST-MODIFIED:20260417T194805Z
UID:10007433-1778400000-1778425200@gunstuff.tv
SUMMARY:Steel Challenge Match
DESCRIPTION:Schedule \n\nRegistration:  7:45 AM – 8:30 AM\n\nYou may pre-register and pre-pay here:  https://practiscore.com/clubs/diablo-action-pistol\n\n\nMatch:  9:00 AM – 2:00 PM\n\nMatch Fee \n\n$25  ($20 if you have a valid United Sportsmen VIP Access Card)\nWe prefer that you pre-register and pay on Practiscore\, but if registering at match please bring exact change.\n\nPrerequisites \n\nCompetitors must be “Action Pistol Certified” to take part in this match.  To become certified\, see the calendar for orientation classes.\nAll competitors need to bring or have a photo of a current USI waiver range card (“Blue or Green” card) to shoot at the range. If you do not have a current card go to https://unitedsportsmen.com/waiver/ for more information\, to watch the videos and take the online quiz prior to the class. We can issue current waiver cards at the class if you have completed the online portion.\n\nAbout Steel Challenge \nSteel Challenge is a speed shooting competition that consists of eight standardized stages with steel targets in three sizes; small circular\, large circular and square targets.  Competitors are scored by the time it takes them to complete each stage\, and the match winner is the competitor with the lowest overall time. \nOur matches have 5 stages with 5 steel targets on each.  Each competitor shoots each stage five times\, with their slowest run dropped\, excluding the stage “Outer Limits” where only four runs are shot and the top three counted.  The counting times are totaled for their stage score\, and the five stage scores are added together to establish the competitor’s match score. \nFor each run\, one hit per target is required\, with an unlimited number of rounds permitted.  The last target to be shot is known as the “stop plate”\, which stops the timer. All primary target hits made after the stop plate has been struck\, will be scored with a 3-second penalty each. The maximum time permitted for a run is 30 seconds and a competitor will be stopped and asked to reload if they reach the 30-second limit.
URL:https://gunstuff.tv/event/steel-challenge-match-8/
LOCATION:Action Pistol Range\, 4700 Evora Road\, Concord\, CA\, 94520
CATEGORIES:Diablo Action Pistol
ATTACH;FMTTYPE=image/png:https://gunstuff.tv/wp-content/uploads/2025/10/Logo_of_the_Steel_Challenge_Shooting_Association-aRz8Tn.png
ORGANIZER;CN="Blade Benson":MAILTO:matchsupport@diabloactionpistol.com
GEO:42.705297;-83.4014
X-APPLE-STRUCTURED-LOCATION;VALUE=URI;X-ADDRESS=Action Pistol Range 4700 Evora Road Concord CA 94520;X-APPLE-RADIUS=500;X-TITLE=4700 Evora Road:geo:-83.4014,42.705297
END:VEVENT
BEGIN:VEVENT
DTSTART;TZID=America/Los_Angeles:20260514T140000
DTEND;TZID=America/Los_Angeles:20260514T170000
DTSTAMP:20260422T113603
CREATED:20260417T194738Z
LAST-MODIFIED:20260417T194805Z
UID:10008023-1778767200-1778778000@gunstuff.tv
SUMMARY:Action Pistol – 2nd/4th Thu Practice
DESCRIPTION:Range fee: \n\n$10  ($5 if you are a USI Access Card/VIP Card holder)\nBring exact change.\n\nPlease note: \n\nThe number of practice bays available may be impacted by competition stage setup needs.
URL:https://gunstuff.tv/event/action-pistol-2nd-4th-thu-practice-14/
LOCATION:Action Pistol Range\, 4700 Evora Road\, Concord\, CA\, 94520
CATEGORIES:Diablo Action Pistol
ATTACH;FMTTYPE=image/png:https://gunstuff.tv/wp-content/uploads/2025/10/White-bg_transparent-daplogo-e1547014989540-HGFVH2.png
ORGANIZER;CN="Blade Benson":MAILTO:matchsupport@diabloactionpistol.com
GEO:42.705297;-83.4014
X-APPLE-STRUCTURED-LOCATION;VALUE=URI;X-ADDRESS=Action Pistol Range 4700 Evora Road Concord CA 94520;X-APPLE-RADIUS=500;X-TITLE=4700 Evora Road:geo:-83.4014,42.705297
END:VEVENT
BEGIN:VEVENT
DTSTART;TZID=America/Los_Angeles:20260515T090000
DTEND;TZID=America/Los_Angeles:20260515T170000
DTSTAMP:20260422T113603
CREATED:20260417T194738Z
LAST-MODIFIED:20260417T194805Z
UID:10008024-1778835600-1778864400@gunstuff.tv
SUMMARY:Action Pistol – RO Practice
DESCRIPTION:This practice is for Diablo Range Officers only.  Do not show up if you are not a Diablo Range Officer.
URL:https://gunstuff.tv/event/action-pistol-ro-practice-32/
LOCATION:Action Pistol Range\, 4700 Evora Road\, Concord\, CA\, 94520
CATEGORIES:Diablo Action Pistol
ATTACH;FMTTYPE=image/jpeg:https://gunstuff.tv/wp-content/uploads/2025/10/range_officer-e1638567606101-fR8pOy.jpg
ORGANIZER;CN="Blade Benson":MAILTO:matchsupport@diabloactionpistol.com
GEO:42.705297;-83.4014
X-APPLE-STRUCTURED-LOCATION;VALUE=URI;X-ADDRESS=Action Pistol Range 4700 Evora Road Concord CA 94520;X-APPLE-RADIUS=500;X-TITLE=4700 Evora Road:geo:-83.4014,42.705297
END:VEVENT
BEGIN:VEVENT
DTSTART;TZID=America/Los_Angeles:20260516T090000
DTEND;TZID=America/Los_Angeles:20260516T120000
DTSTAMP:20260422T113603
CREATED:20260417T194739Z
LAST-MODIFIED:20260417T194805Z
UID:10008026-1778922000-1778932800@gunstuff.tv
SUMMARY:Action Pistol – Sat Practice
DESCRIPTION:Range fee: \n\n$10  ($5 if you are a USI VIP Card holder)\nBring exact change.\n\nPlease note: \n\nThere will be no Saturday practice on the 5th Saturday of a month\, when those occur.\nThe number of practice bays available may be impacted by competition stage setup needs.
URL:https://gunstuff.tv/event/action-pistol-sat-practice-30/
LOCATION:Action Pistol Range\, 4700 Evora Road\, Concord\, CA\, 94520
CATEGORIES:Diablo Action Pistol
ATTACH;FMTTYPE=image/png:https://gunstuff.tv/wp-content/uploads/2025/10/White-bg_transparent-daplogo-e1547014989540-HGFVH2.png
ORGANIZER;CN="Blade Benson":MAILTO:matchsupport@diabloactionpistol.com
GEO:42.705297;-83.4014
X-APPLE-STRUCTURED-LOCATION;VALUE=URI;X-ADDRESS=Action Pistol Range 4700 Evora Road Concord CA 94520;X-APPLE-RADIUS=500;X-TITLE=4700 Evora Road:geo:-83.4014,42.705297
END:VEVENT
BEGIN:VEVENT
DTSTART;TZID=America/Los_Angeles:20260517T080000
DTEND;TZID=America/Los_Angeles:20260517T150000
DTSTAMP:20260422T113603
CREATED:20260417T194751Z
LAST-MODIFIED:20260417T194805Z
UID:10008030-1779004800-1779030000@gunstuff.tv
SUMMARY:DAWG’s ICORE Match
DESCRIPTION:Diablo Action Pistol / Diablo Action Wheel Gunners (DAWGs) will have a 5-stage ICORE match with at least one stage being a regulation Postal Match stage.  Classified semi-auto shooters & DAP shooters who recently completed the Action Orientation class are welcome! \nYou must complete the USI liability waiver online before match day: this involves watching two short 3-min videos and taking an online safety test. The waiver is located at https://unitedsportsmen.com/waiver/ \nPlease arrive early so we can start on time. On-site Registration opens at 8:00 AM and closes at 8:30 AM.  Shooters’ meeting at 8:55 AM. First shots at 9:00 AM. \n\nPre-Register on Practiscore:  https://practiscore.com/clubs/diablo-action-pistol
URL:https://gunstuff.tv/event/dawgs-icore-match-4/
LOCATION:Action Pistol Range\, 4700 Evora Road\, Concord\, CA\, 94520
CATEGORIES:Diablo Action Pistol
ORGANIZER;CN="Blade Benson":MAILTO:matchsupport@diabloactionpistol.com
GEO:42.705297;-83.4014
X-APPLE-STRUCTURED-LOCATION;VALUE=URI;X-ADDRESS=Action Pistol Range 4700 Evora Road Concord CA 94520;X-APPLE-RADIUS=500;X-TITLE=4700 Evora Road:geo:-83.4014,42.705297
END:VEVENT
END:VCALENDAR