BEGIN:VCALENDAR
VERSION:2.0
PRODID:-//GunStuff TV - ECPv6.15.20//NONSGML v1.0//EN
CALSCALE:GREGORIAN
METHOD:PUBLISH
X-ORIGINAL-URL:https://gunstuff.tv
X-WR-CALDESC:Events for GunStuff TV
REFRESH-INTERVAL;VALUE=DURATION:PT1H
X-Robots-Tag:noindex
X-PUBLISHED-TTL:PT1H
BEGIN:VTIMEZONE
TZID:America/Los_Angeles
BEGIN:DAYLIGHT
TZOFFSETFROM:-0800
TZOFFSETTO:-0700
TZNAME:PDT
DTSTART:20250309T100000
END:DAYLIGHT
BEGIN:STANDARD
TZOFFSETFROM:-0700
TZOFFSETTO:-0800
TZNAME:PST
DTSTART:20251102T090000
END:STANDARD
BEGIN:DAYLIGHT
TZOFFSETFROM:-0800
TZOFFSETTO:-0700
TZNAME:PDT
DTSTART:20260308T100000
END:DAYLIGHT
BEGIN:STANDARD
TZOFFSETFROM:-0700
TZOFFSETTO:-0800
TZNAME:PST
DTSTART:20261101T090000
END:STANDARD
BEGIN:DAYLIGHT
TZOFFSETFROM:-0800
TZOFFSETTO:-0700
TZNAME:PDT
DTSTART:20270314T100000
END:DAYLIGHT
BEGIN:STANDARD
TZOFFSETFROM:-0700
TZOFFSETTO:-0800
TZNAME:PST
DTSTART:20271107T090000
END:STANDARD
END:VTIMEZONE
BEGIN:VEVENT
DTSTART;TZID=America/Los_Angeles:20260424T080000
DTEND;TZID=America/Los_Angeles:20260424T170000
DTSTAMP:20260419T175616
CREATED:20260327T193145Z
LAST-MODIFIED:20260410T194636Z
UID:10006558-1777017600-1777050000@gunstuff.tv
SUMMARY:10 Meter Indoor Airgun Match
DESCRIPTION:The Airgun League runs from January through May. The shoots are on the 2nd and 4th Friday of each of those months with events for rifle and pistol. \nAll shooting is done offhand (standing) at paper targets. The format is “shoulder to shoulder”\, without point dividers\, so some shooting experience is required. There is no coaching or spotting (by another person for the shooter) permitted during the “record” firing periods. \n\nAll shoots are held in the clubhouse and there are club guns available for those of you who don’t have their own.\nJuniors (ages 8 to 18) shoot free\, but those over 16 shoot in the adult classifications.\nCompetition is by classification (shooting against other shooters in your class) except for the high overall scores. A total of twenty (20) shots are fired for record over the course of two ten-minute record firing periods. A five-minute “sight-in” firing period is held before each squad begins shooting for record.\nWe offer two relays per evening ($2.50 relay) – you can shoot rifle/pistol or rifle/rifle if desired\n\nFor further information contact \n\n \n  \nDiabloAirGun@Outlook.com
URL:https://gunstuff.tv/event/10-meter-indoor-airgun-match-7/
LOCATION:USI Clubhouse\, 4700 Evora Rd.\, Concord\, CA\, 94521
CATEGORIES:Airgun
ATTACH;FMTTYPE=image/png:https://gunstuff.tv/wp-content/uploads/2025/12/unnamed-BQHRtY.png
ORGANIZER;CN="Martin O&#8217%3BConnor":MAILTO:Membership@Diablorodandgun.com
END:VEVENT
END:VCALENDAR