BEGIN:VCALENDAR
VERSION:2.0
PRODID:-//GunStuff TV - ECPv6.15.20//NONSGML v1.0//EN
CALSCALE:GREGORIAN
METHOD:PUBLISH
X-ORIGINAL-URL:https://gunstuff.tv
X-WR-CALDESC:Events for GunStuff TV
REFRESH-INTERVAL;VALUE=DURATION:PT1H
X-Robots-Tag:noindex
X-PUBLISHED-TTL:PT1H
BEGIN:VTIMEZONE
TZID:America/Los_Angeles
BEGIN:DAYLIGHT
TZOFFSETFROM:-0800
TZOFFSETTO:-0700
TZNAME:PDT
DTSTART:20250309T100000
END:DAYLIGHT
BEGIN:STANDARD
TZOFFSETFROM:-0700
TZOFFSETTO:-0800
TZNAME:PST
DTSTART:20251102T090000
END:STANDARD
BEGIN:DAYLIGHT
TZOFFSETFROM:-0800
TZOFFSETTO:-0700
TZNAME:PDT
DTSTART:20260308T100000
END:DAYLIGHT
BEGIN:STANDARD
TZOFFSETFROM:-0700
TZOFFSETTO:-0800
TZNAME:PST
DTSTART:20261101T090000
END:STANDARD
BEGIN:DAYLIGHT
TZOFFSETFROM:-0800
TZOFFSETTO:-0700
TZNAME:PDT
DTSTART:20270314T100000
END:DAYLIGHT
BEGIN:STANDARD
TZOFFSETFROM:-0700
TZOFFSETTO:-0800
TZNAME:PST
DTSTART:20271107T090000
END:STANDARD
END:VTIMEZONE
BEGIN:VEVENT
DTSTART;TZID=America/Los_Angeles:20260415T090000
DTEND;TZID=America/Los_Angeles:20260415T120000
DTSTAMP:20260423T022105
CREATED:20260320T193142Z
LAST-MODIFIED:20260410T194635Z
UID:10006438-1776243600-1776254400@gunstuff.tv
SUMMARY:Airgun Wednesdays
DESCRIPTION:Fun Airgun Only shooting session at the MPR- look for the big red flag on the pole that says “MPR”- that’s us! \nOpen to public\, airguns .30 cal and below. Benches available\, targets and stands\, 200 yard range. Good group of people. \nAll types of airguns- springers\, PCP’s\, Pistols.  Eye protection required\, ear protection optional \nNo bb\, darts or airsoft please. \n$15 Guest\n$10 for Diablo members (did you know Diablo membership is only $25 a year?)\n$5 for those special few that have purchased a USI VIP card.\nYouths accompanied by a Club member adult shoot free.\n \n\nUSI waiver must signed prior to shoot\, you can do so prior to attending: \n\n\nWaiver \n\n\nContact: \nSam Russo \nthePelleteer@gmail.com
URL:https://gunstuff.tv/event/airgun-wednesdays-27/
LOCATION:USI Multi Purpose Range\, 4700 Evora Road\, Concord\, CA\, 94520
CATEGORIES:Airgun
ATTACH;FMTTYPE=image/jpeg:https://gunstuff.tv/wp-content/uploads/2025/10/4MRvVFxy_400x400-e1623188943149-4rbkn0.jpg
ORGANIZER;CN="Sam Russo":MAILTO:airgun_fieldtarget@diablorodandgun.com
END:VEVENT
END:VCALENDAR