BEGIN:VCALENDAR
VERSION:2.0
PRODID:-//GunStuff TV - ECPv6.15.20//NONSGML v1.0//EN
CALSCALE:GREGORIAN
METHOD:PUBLISH
X-WR-CALNAME:GunStuff TV
X-ORIGINAL-URL:https://gunstuff.tv
X-WR-CALDESC:Events for GunStuff TV
REFRESH-INTERVAL;VALUE=DURATION:PT1H
X-Robots-Tag:noindex
X-PUBLISHED-TTL:PT1H
BEGIN:VTIMEZONE
TZID:America/New_York
BEGIN:DAYLIGHT
TZOFFSETFROM:-0500
TZOFFSETTO:-0400
TZNAME:EDT
DTSTART:20250309T070000
END:DAYLIGHT
BEGIN:STANDARD
TZOFFSETFROM:-0400
TZOFFSETTO:-0500
TZNAME:EST
DTSTART:20251102T060000
END:STANDARD
BEGIN:DAYLIGHT
TZOFFSETFROM:-0500
TZOFFSETTO:-0400
TZNAME:EDT
DTSTART:20260308T070000
END:DAYLIGHT
BEGIN:STANDARD
TZOFFSETFROM:-0400
TZOFFSETTO:-0500
TZNAME:EST
DTSTART:20261101T060000
END:STANDARD
BEGIN:DAYLIGHT
TZOFFSETFROM:-0500
TZOFFSETTO:-0400
TZNAME:EDT
DTSTART:20270314T070000
END:DAYLIGHT
BEGIN:STANDARD
TZOFFSETFROM:-0400
TZOFFSETTO:-0500
TZNAME:EST
DTSTART:20271107T060000
END:STANDARD
END:VTIMEZONE
BEGIN:VEVENT
DTSTART;TZID=America/New_York:20260422T130000
DTEND;TZID=America/New_York:20260422T160000
DTSTAMP:20260419T191106
CREATED:20260324T014635Z
LAST-MODIFIED:20260414T021634Z
UID:10006469-1776862800-1776873600@gunstuff.tv
SUMMARY:Intro to How to Use your Conceal Carry Purse\, Bag.
DESCRIPTION:Hey Everyone \n\n\nDo you want to carry concealed\, but are just not ready to carry on body? \n\n\nDo you normally carry on body but occasionally wish for another safe option? \n\n\nDo you ever just throw a gun in your purse and think you’re good to go? \n\n\nIt’s time to elevate your off body carry skills and be responsible for your own personal safety. \n\n\nSign up for our CONCEAL Carry Course today and you will empower yourself with the skills and knowledge to properly carry your handgun \n\n\n\nStudents need to bring their purse /bag/sling and bring firearm if they already have it. But we will also have plenty for them to try.
URL:https://gunstuff.tv/event/intro-to-how-to-use-your-conceal-carry-purse-bag-2/
LOCATION:Appalacian Gun\, Pawn & Range\, 140 Shelby Ln.\, Jasper\, GA\, 30143\, United States
CATEGORIES:Basic,firearm-safety,Safe Gun
ORGANIZER;CN="Appalachian Gun":MAILTO:Appalachiangun@gmail.com
END:VEVENT
BEGIN:VEVENT
DTSTART;TZID=America/New_York:20260422T173000
DTEND;TZID=America/New_York:20260422T203000
DTSTAMP:20260419T191106
CREATED:20260324T014635Z
LAST-MODIFIED:20260414T021646Z
UID:10006470-1776879000-1776889800@gunstuff.tv
SUMMARY:Intro to How to Use your Conceal Carry Purse\, Bag.
DESCRIPTION:Hey Everyone \n\n\nDo you want to carry concealed\, but are just not ready to carry on body? \n\n\nDo you normally carry on body but occasionally wish for another safe option? \n\n\nDo you ever just throw a gun in your purse and think you’re good to go? \n\n\nIt’s time to elevate your off body carry skills and be responsible for your own personal safety. \n\n\nSign up for our CONCEAL Carry Course today and you will empower yourself with the skills and knowledge to properly carry your handgun \n\n\n\nStudents need to bring their purse /bag/sling and bring firearm if they already have it. But we will also have plenty for them to try.
URL:https://gunstuff.tv/event/intro-to-how-to-use-your-conceal-carry-purse-bag-3/
LOCATION:Appalacian Gun\, Pawn & Range\, 140 Shelby Ln.\, Jasper\, GA\, 30143\, United States
CATEGORIES:Basic,firearm-safety,Safe Gun
ORGANIZER;CN="Appalachian Gun":MAILTO:Appalachiangun@gmail.com
END:VEVENT
END:VCALENDAR